BEGIN:VCALENDAR
VERSION:2.0
PRODID:-//CityCenter Danbury - ECPv6.15.19//NONSGML v1.0//EN
CALSCALE:GREGORIAN
METHOD:PUBLISH
X-WR-CALNAME:CityCenter Danbury
X-ORIGINAL-URL:https://citycenterdanbury.com
X-WR-CALDESC:Events for CityCenter Danbury
REFRESH-INTERVAL;VALUE=DURATION:PT1H
X-Robots-Tag:noindex
X-PUBLISHED-TTL:PT1H
BEGIN:VTIMEZONE
TZID:America/New_York
BEGIN:DAYLIGHT
TZOFFSETFROM:-0500
TZOFFSETTO:-0400
TZNAME:EDT
DTSTART:20240310T070000
END:DAYLIGHT
BEGIN:STANDARD
TZOFFSETFROM:-0400
TZOFFSETTO:-0500
TZNAME:EST
DTSTART:20241103T060000
END:STANDARD
BEGIN:DAYLIGHT
TZOFFSETFROM:-0500
TZOFFSETTO:-0400
TZNAME:EDT
DTSTART:20250309T070000
END:DAYLIGHT
BEGIN:STANDARD
TZOFFSETFROM:-0400
TZOFFSETTO:-0500
TZNAME:EST
DTSTART:20251102T060000
END:STANDARD
BEGIN:DAYLIGHT
TZOFFSETFROM:-0500
TZOFFSETTO:-0400
TZNAME:EDT
DTSTART:20260308T070000
END:DAYLIGHT
BEGIN:STANDARD
TZOFFSETFROM:-0400
TZOFFSETTO:-0500
TZNAME:EST
DTSTART:20261101T060000
END:STANDARD
END:VTIMEZONE
BEGIN:VEVENT
DTSTART;VALUE=DATE:20250516
DTEND;VALUE=DATE:20250525
DTSTAMP:20260420T020745
CREATED:20250508T135251Z
LAST-MODIFIED:20250508T143523Z
UID:10000407-1747353600-1748131199@citycenterdanbury.com
SUMMARY:Danbury Restaurant Week 2025
DESCRIPTION:🍽️ Danbury Restaurant Week: May 16–24\, 2025\nSavor the flavors of Danbury during Restaurant Week! From May 16th to the 24th\, enjoy special prix fixe menus and exclusive deals at your favorite local eateries. Whether you’re craving a classic steak dinner or exploring international cuisines\, there’s something for every palate.​ \n👉 Visit Participating Restaurants for the full list of participating restaurants\, menus\, and reservation details.
URL:https://citycenterdanbury.com/event/danbury-restaurant-week-2025/
LOCATION:CT
ATTACH;FMTTYPE=image/jpeg:https://citycenterdanbury.com/wp-content/uploads/2025/05/Rest-Week-copy.jpg
END:VEVENT
END:VCALENDAR