BEGIN:VCALENDAR
VERSION:2.0
PRODID:-//CityCenter Danbury - ECPv6.15.19//NONSGML v1.0//EN
CALSCALE:GREGORIAN
METHOD:PUBLISH
X-WR-CALNAME:CityCenter Danbury
X-ORIGINAL-URL:https://citycenterdanbury.com
X-WR-CALDESC:Events for CityCenter Danbury
REFRESH-INTERVAL;VALUE=DURATION:PT1H
X-Robots-Tag:noindex
X-PUBLISHED-TTL:PT1H
BEGIN:VTIMEZONE
TZID:America/New_York
BEGIN:DAYLIGHT
TZOFFSETFROM:-0500
TZOFFSETTO:-0400
TZNAME:EDT
DTSTART:20250309T070000
END:DAYLIGHT
BEGIN:STANDARD
TZOFFSETFROM:-0400
TZOFFSETTO:-0500
TZNAME:EST
DTSTART:20251102T060000
END:STANDARD
BEGIN:DAYLIGHT
TZOFFSETFROM:-0500
TZOFFSETTO:-0400
TZNAME:EDT
DTSTART:20260308T070000
END:DAYLIGHT
BEGIN:STANDARD
TZOFFSETFROM:-0400
TZOFFSETTO:-0500
TZNAME:EST
DTSTART:20261101T060000
END:STANDARD
BEGIN:DAYLIGHT
TZOFFSETFROM:-0500
TZOFFSETTO:-0400
TZNAME:EDT
DTSTART:20270314T070000
END:DAYLIGHT
BEGIN:STANDARD
TZOFFSETFROM:-0400
TZOFFSETTO:-0500
TZNAME:EST
DTSTART:20271107T060000
END:STANDARD
END:VTIMEZONE
BEGIN:VEVENT
DTSTART;TZID=America/New_York:20260502T130000
DTEND;TZID=America/New_York:20260502T160000
DTSTAMP:20260419T183734
CREATED:20250224T155033Z
LAST-MODIFIED:20260311T183715Z
UID:10000383-1777726800-1777737600@citycenterdanbury.com
SUMMARY:Cinco De Mayo
DESCRIPTION:CityCenter Danbury and the Mexican Cultural Center Proudly Present the Second Annual Cinco de Mayo Festival!\nJoin us for a vibrant celebration of Mexican culture\, music\, and traditions at the second annual Cinco de Mayo Festival! Experience the rich colors of Mexico\, enjoy authentic cuisine\, shop from local vendors\, and dance to live entertainment. \nThis family-friendly event will feature activities for all ages\, providing a wonderful opportunity to learn about and immerse yourself in Mexican heritage. \n📅 Saturday\, May 2nd⏰ 1:00 PM – 4:00 PM📍 CityCenter Green\, Danbury🎟 Free and open to all! \nDon’t miss this exciting cultural celebration! 🎉 \n  \nIf you would like to be a vendor at this event\, please click on the link below: \n2026 Vendor Form
URL:https://citycenterdanbury.com/event/cinco-de-mayo/
LOCATION:CT
ATTACH;FMTTYPE=image/jpeg:https://citycenterdanbury.com/wp-content/uploads/2025/02/05-02-Cinco-De-Mayo-scaled.jpg
END:VEVENT
END:VCALENDAR