BEGIN:VCALENDAR
VERSION:2.0
PRODID:-//CityCenter Danbury - ECPv6.15.19//NONSGML v1.0//EN
CALSCALE:GREGORIAN
METHOD:PUBLISH
X-WR-CALNAME:CityCenter Danbury
X-ORIGINAL-URL:https://citycenterdanbury.com
X-WR-CALDESC:Events for CityCenter Danbury
REFRESH-INTERVAL;VALUE=DURATION:PT1H
X-Robots-Tag:noindex
X-PUBLISHED-TTL:PT1H
BEGIN:VTIMEZONE
TZID:America/New_York
BEGIN:DAYLIGHT
TZOFFSETFROM:-0500
TZOFFSETTO:-0400
TZNAME:EDT
DTSTART:20250309T070000
END:DAYLIGHT
BEGIN:STANDARD
TZOFFSETFROM:-0400
TZOFFSETTO:-0500
TZNAME:EST
DTSTART:20251102T060000
END:STANDARD
BEGIN:DAYLIGHT
TZOFFSETFROM:-0500
TZOFFSETTO:-0400
TZNAME:EDT
DTSTART:20260308T070000
END:DAYLIGHT
BEGIN:STANDARD
TZOFFSETFROM:-0400
TZOFFSETTO:-0500
TZNAME:EST
DTSTART:20261101T060000
END:STANDARD
BEGIN:DAYLIGHT
TZOFFSETFROM:-0500
TZOFFSETTO:-0400
TZNAME:EDT
DTSTART:20270314T070000
END:DAYLIGHT
BEGIN:STANDARD
TZOFFSETFROM:-0400
TZOFFSETTO:-0500
TZNAME:EST
DTSTART:20271107T060000
END:STANDARD
END:VTIMEZONE
BEGIN:VEVENT
DTSTART;TZID=America/New_York:20260819T170000
DTEND;TZID=America/New_York:20260823T220000
DTSTAMP:20260422T183555
CREATED:20230703T133550Z
LAST-MODIFIED:20260226T173216Z
UID:10000191-1787158800-1787522400@citycenterdanbury.com
SUMMARY:San Gennaro Festival 2026
DESCRIPTION:The 5th annual Danbury San Gennaro Festival is back and BIGGER than before.  This FREE 5-day event will be filled with delicious food\, music\, games\, entertainment\, everything you can ever ask for!  Get ready to say CIAO and PREGO from August 19th – 23rd!!  \nHOURS: \nWed – Fri. 5-11PM  /  Saturday 1-11PM  /  Sunday 1-10PM \n 
URL:https://citycenterdanbury.com/event/san-gennaro-festival/
LOCATION:Danbury CityCenter Green\, 1 Ives Street\, Danbury\, CT\, 06810
ATTACH;FMTTYPE=image/png:https://citycenterdanbury.com/wp-content/uploads/2023/07/08-19-San-Gennaro-A.png
END:VEVENT
END:VCALENDAR