BEGIN:VCALENDAR
VERSION:2.0
PRODID:-//CityCenter Danbury - ECPv6.15.19//NONSGML v1.0//EN
CALSCALE:GREGORIAN
METHOD:PUBLISH
X-ORIGINAL-URL:https://citycenterdanbury.com
X-WR-CALDESC:Events for CityCenter Danbury
REFRESH-INTERVAL;VALUE=DURATION:PT1H
X-Robots-Tag:noindex
X-PUBLISHED-TTL:PT1H
BEGIN:VTIMEZONE
TZID:America/New_York
BEGIN:DAYLIGHT
TZOFFSETFROM:-0500
TZOFFSETTO:-0400
TZNAME:EDT
DTSTART:20190310T070000
END:DAYLIGHT
BEGIN:STANDARD
TZOFFSETFROM:-0400
TZOFFSETTO:-0500
TZNAME:EST
DTSTART:20191103T060000
END:STANDARD
BEGIN:DAYLIGHT
TZOFFSETFROM:-0500
TZOFFSETTO:-0400
TZNAME:EDT
DTSTART:20200308T070000
END:DAYLIGHT
BEGIN:STANDARD
TZOFFSETFROM:-0400
TZOFFSETTO:-0500
TZNAME:EST
DTSTART:20201101T060000
END:STANDARD
BEGIN:DAYLIGHT
TZOFFSETFROM:-0500
TZOFFSETTO:-0400
TZNAME:EDT
DTSTART:20210314T070000
END:DAYLIGHT
BEGIN:STANDARD
TZOFFSETFROM:-0400
TZOFFSETTO:-0500
TZNAME:EST
DTSTART:20211107T060000
END:STANDARD
BEGIN:DAYLIGHT
TZOFFSETFROM:-0500
TZOFFSETTO:-0400
TZNAME:EDT
DTSTART:20220313T070000
END:DAYLIGHT
BEGIN:STANDARD
TZOFFSETFROM:-0400
TZOFFSETTO:-0500
TZNAME:EST
DTSTART:20221106T060000
END:STANDARD
BEGIN:DAYLIGHT
TZOFFSETFROM:-0500
TZOFFSETTO:-0400
TZNAME:EDT
DTSTART:20230312T070000
END:DAYLIGHT
BEGIN:STANDARD
TZOFFSETFROM:-0400
TZOFFSETTO:-0500
TZNAME:EST
DTSTART:20231105T060000
END:STANDARD
END:VTIMEZONE
BEGIN:VEVENT
DTSTART;TZID=America/New_York:20220708T190000
DTEND;TZID=America/New_York:20220708T220000
DTSTAMP:20260419T164843
CREATED:20220705T194906Z
LAST-MODIFIED:20220705T195021Z
UID:10000058-1657306800-1657317600@citycenterdanbury.com
SUMMARY:2022 Summer Concert Series
DESCRIPTION:After much anticipation — Danbury Summer Concert series continues on Friday\, July 8th starting at 7:00pm! Starting with Cobalt Blue as the opening act and The Mighty Ploughboys as our main act at 8:00pm!  \n\n \nCobalt Blue is rock band with deep roots in the blues.  This is a band with versatile musicians\, soaring solos\, and heartfelt vocals. The band performs best when it performs live. All of the members have been playing for many years and have come together out of mutual respect for each other’s talent and love of the music.\n \n\nMighty Ploughboys are one of those bands that make you want to be Irish!!! A five-piece rock powerhouse out of Connecticut that blends a classic rock style with hints of traditional Irish Music to create an eclectic style that could be classified in it’s own genre.  The Mighty Ploughboys will challenge the way you think of Irish or Celtic rock bands.  Throughout the course of their musical union\, members of Mighty Ploughboys have won over the hearts of music lovers from all walks of life.  Performing at a variety of venues and making countless public appearances all the while recording new songs versions\, this talented Rock Band has earned the admiration and affection of critics and fans alike! \n\n\n \n\n\nAre you ready for a night of exciting music?  Bring your lawn chairs and blankets and be ready to dance and enjoy the music!!\nAdmission is FREE and open to the general public.  PARKING available at the Patriot Garage. 
URL:https://citycenterdanbury.com/event/2022-summer-concert-series-2/
LOCATION:Danbury CityCenter Green\, 1 Ives Street\, Danbury\, CT\, 06810
CATEGORIES:CityCenter Danbury,Concerts on the Green
ATTACH;FMTTYPE=image/jpeg:https://citycenterdanbury.com/wp-content/uploads/2022/07/Concert-July-8th-scaled.jpg
END:VEVENT
BEGIN:VEVENT
DTSTART;TZID=America/New_York:20220624T183000
DTEND;TZID=America/New_York:20220624T203000
DTSTAMP:20260419T164843
CREATED:20220516T122822Z
LAST-MODIFIED:20220902T171652Z
UID:10000053-1656095400-1656102600@citycenterdanbury.com
SUMMARY:Dancing Under The Stars
DESCRIPTION:By popular demand\, our 2nd annual outdoor active event has come back to our city for some more dance moves!!!  We’ve all been waiting to get outdoors and enjoy life!! What better way to do it than going out to a fun\, family-friendly dance party starting Friday\, September 30th @ 6:30\, located on the rooftop of the Patriot Garage (21 Delay St). \n \nThe night begins with a popular 30-minute dance lesson taught by one of the professional dance instructors from Arthur Murray of Danbury. Immediately following the lesson\, guests are invited to try out their new moves at our public dance party. So make sure you put on your happy feet shoes and lets party!!!\n \nThis will be our FINAL dance party event of the season\, make sure you don’t miss out on the FUN!!!
URL:https://citycenterdanbury.com/event/dancing-under-the-stars-2/2022-06-24/
LOCATION:Patriot Garage\, 1 Patriot Drive\, Danbury\, CT\, 06810\, United States
CATEGORIES:Dance Party
ATTACH;FMTTYPE=image/jpeg:https://citycenterdanbury.com/wp-content/uploads/2021/06/DUTS-FB-Event-Cover.jpg
END:VEVENT
BEGIN:VEVENT
DTSTART;TZID=America/New_York:20210827T190000
DTEND;TZID=America/New_York:20210827T203000
DTSTAMP:20260419T164843
CREATED:20210623T160058Z
LAST-MODIFIED:20210623T180254Z
UID:10000085-1630090800-1630096200@citycenterdanbury.com
SUMMARY:Best Trivia Ever
DESCRIPTION:BEST TRIVIA EVER PARTNERS WITH THE CITIES OF STAMFORD & DANBURY FOR SUMMER TRIVIA SERIES\n\n\nBest Trivia Ever is proud to announce a partnership with both Stamford Downtown and CityCenter Danbury for two Summer Trivia Series\, taking place in June\, July and August. \nThe Stamford Downtown Summer Trivia Series will take place outdoors from Veteran’s Park in Stamford. It will consist of three Thursday night events taking place June 24th\, July 22nd and August 26th. All three events have a 7pm start time and are free to the public. \nThe CityCenter Danbury Summer Trivia Series will take place outdoors from Kennedy Park in Danbury. This series will consist of three Friday night events taking place June 25th\, July 30th and August 27th. All three events have a 7pm start time and are free to the public. \nThese Summer Trivia Series will consist of general knowledge trivia\, covering a wide range of topics. Each event will have prizes and other surprises throughout the night. \nFor more information on all of these events keep tabs on Best Trivia Ever on both Instagram and Facebook
URL:https://citycenterdanbury.com/event/best-trivia-ever/2021-08-27/
LOCATION:Kennedy Park\, Kennedy Avenue\, Danbury\, CT
CATEGORIES:CityCenter Danbury,Community Events
ATTACH;FMTTYPE=image/jpeg:https://citycenterdanbury.com/wp-content/uploads/2021/06/CITY-CENTER-DANBURY-PHOTO.jpg
END:VEVENT
BEGIN:VEVENT
DTSTART;TZID=America/New_York:20210827T160000
DTEND;TZID=America/New_York:20210827T200000
DTSTAMP:20260419T164843
CREATED:20210528T190443Z
LAST-MODIFIED:20210623T152858Z
UID:10000104-1630080000-1630094400@citycenterdanbury.com
SUMMARY:Danbury Pop-Up & Play
DESCRIPTION:In collaboration with Blue Haus Group\, the “PopUp & Play” event series will run along Main Street every Friday from 4 pm to 7 pm\, June through August. \nVendors for the month of June include a handmade card business\, a handmade bathing suit shop\, and a pet-themed accessory shop. In addition to retail vendors\, the series will feature experiences such as Art Vibes\, a unique pop-up paint-and-sip event\, and free table tennis from PoP Table Tennis\, which will occupy outdoor space (weather permitting). \nCheck our Facebook and Instagram for more details each month!
URL:https://citycenterdanbury.com/event/danbury-pop-up-play/2021-08-27/
LOCATION:Downtown Danbury\, CT\, 250 Main St.\, Danbury\, CT\, 06810
CATEGORIES:CityCenter Danbury,Community Events
ATTACH;FMTTYPE=image/png:https://citycenterdanbury.com/wp-content/uploads/2021/05/IMG_9344.png
END:VEVENT
BEGIN:VEVENT
DTSTART;TZID=America/New_York:20210820T160000
DTEND;TZID=America/New_York:20210820T200000
DTSTAMP:20260419T164843
CREATED:20210528T190443Z
LAST-MODIFIED:20210623T152858Z
UID:10000103-1629475200-1629489600@citycenterdanbury.com
SUMMARY:Danbury Pop-Up & Play
DESCRIPTION:In collaboration with Blue Haus Group\, the “PopUp & Play” event series will run along Main Street every Friday from 4 pm to 7 pm\, June through August. \nVendors for the month of June include a handmade card business\, a handmade bathing suit shop\, and a pet-themed accessory shop. In addition to retail vendors\, the series will feature experiences such as Art Vibes\, a unique pop-up paint-and-sip event\, and free table tennis from PoP Table Tennis\, which will occupy outdoor space (weather permitting). \nCheck our Facebook and Instagram for more details each month!
URL:https://citycenterdanbury.com/event/danbury-pop-up-play/2021-08-20/
LOCATION:Downtown Danbury\, CT\, 250 Main St.\, Danbury\, CT\, 06810
CATEGORIES:CityCenter Danbury,Community Events
ATTACH;FMTTYPE=image/png:https://citycenterdanbury.com/wp-content/uploads/2021/05/IMG_9344.png
END:VEVENT
BEGIN:VEVENT
DTSTART;TZID=America/New_York:20210813T160000
DTEND;TZID=America/New_York:20210813T200000
DTSTAMP:20260419T164843
CREATED:20210528T190443Z
LAST-MODIFIED:20210623T152858Z
UID:10000102-1628870400-1628884800@citycenterdanbury.com
SUMMARY:Danbury Pop-Up & Play
DESCRIPTION:In collaboration with Blue Haus Group\, the “PopUp & Play” event series will run along Main Street every Friday from 4 pm to 7 pm\, June through August. \nVendors for the month of June include a handmade card business\, a handmade bathing suit shop\, and a pet-themed accessory shop. In addition to retail vendors\, the series will feature experiences such as Art Vibes\, a unique pop-up paint-and-sip event\, and free table tennis from PoP Table Tennis\, which will occupy outdoor space (weather permitting). \nCheck our Facebook and Instagram for more details each month!
URL:https://citycenterdanbury.com/event/danbury-pop-up-play/2021-08-13/
LOCATION:Downtown Danbury\, CT\, 250 Main St.\, Danbury\, CT\, 06810
CATEGORIES:CityCenter Danbury,Community Events
ATTACH;FMTTYPE=image/png:https://citycenterdanbury.com/wp-content/uploads/2021/05/IMG_9344.png
END:VEVENT
BEGIN:VEVENT
DTSTART;TZID=America/New_York:20210806T160000
DTEND;TZID=America/New_York:20210806T200000
DTSTAMP:20260419T164843
CREATED:20210528T190443Z
LAST-MODIFIED:20210623T152858Z
UID:10000101-1628265600-1628280000@citycenterdanbury.com
SUMMARY:Danbury Pop-Up & Play
DESCRIPTION:In collaboration with Blue Haus Group\, the “PopUp & Play” event series will run along Main Street every Friday from 4 pm to 7 pm\, June through August. \nVendors for the month of June include a handmade card business\, a handmade bathing suit shop\, and a pet-themed accessory shop. In addition to retail vendors\, the series will feature experiences such as Art Vibes\, a unique pop-up paint-and-sip event\, and free table tennis from PoP Table Tennis\, which will occupy outdoor space (weather permitting). \nCheck our Facebook and Instagram for more details each month!
URL:https://citycenterdanbury.com/event/danbury-pop-up-play/2021-08-06/
LOCATION:Downtown Danbury\, CT\, 250 Main St.\, Danbury\, CT\, 06810
CATEGORIES:CityCenter Danbury,Community Events
ATTACH;FMTTYPE=image/png:https://citycenterdanbury.com/wp-content/uploads/2021/05/IMG_9344.png
END:VEVENT
BEGIN:VEVENT
DTSTART;TZID=America/New_York:20210730T190000
DTEND;TZID=America/New_York:20210730T203000
DTSTAMP:20260419T164843
CREATED:20210623T160058Z
LAST-MODIFIED:20210623T180254Z
UID:10000084-1627671600-1627677000@citycenterdanbury.com
SUMMARY:Best Trivia Ever
DESCRIPTION:BEST TRIVIA EVER PARTNERS WITH THE CITIES OF STAMFORD & DANBURY FOR SUMMER TRIVIA SERIES\n\n\nBest Trivia Ever is proud to announce a partnership with both Stamford Downtown and CityCenter Danbury for two Summer Trivia Series\, taking place in June\, July and August. \nThe Stamford Downtown Summer Trivia Series will take place outdoors from Veteran’s Park in Stamford. It will consist of three Thursday night events taking place June 24th\, July 22nd and August 26th. All three events have a 7pm start time and are free to the public. \nThe CityCenter Danbury Summer Trivia Series will take place outdoors from Kennedy Park in Danbury. This series will consist of three Friday night events taking place June 25th\, July 30th and August 27th. All three events have a 7pm start time and are free to the public. \nThese Summer Trivia Series will consist of general knowledge trivia\, covering a wide range of topics. Each event will have prizes and other surprises throughout the night. \nFor more information on all of these events keep tabs on Best Trivia Ever on both Instagram and Facebook
URL:https://citycenterdanbury.com/event/best-trivia-ever/2021-07-30/
LOCATION:Kennedy Park\, Kennedy Avenue\, Danbury\, CT
CATEGORIES:CityCenter Danbury,Community Events
ATTACH;FMTTYPE=image/jpeg:https://citycenterdanbury.com/wp-content/uploads/2021/06/CITY-CENTER-DANBURY-PHOTO.jpg
END:VEVENT
BEGIN:VEVENT
DTSTART;TZID=America/New_York:20210730T160000
DTEND;TZID=America/New_York:20210730T200000
DTSTAMP:20260419T164843
CREATED:20210528T190443Z
LAST-MODIFIED:20210623T152858Z
UID:10000100-1627660800-1627675200@citycenterdanbury.com
SUMMARY:Danbury Pop-Up & Play
DESCRIPTION:In collaboration with Blue Haus Group\, the “PopUp & Play” event series will run along Main Street every Friday from 4 pm to 7 pm\, June through August. \nVendors for the month of June include a handmade card business\, a handmade bathing suit shop\, and a pet-themed accessory shop. In addition to retail vendors\, the series will feature experiences such as Art Vibes\, a unique pop-up paint-and-sip event\, and free table tennis from PoP Table Tennis\, which will occupy outdoor space (weather permitting). \nCheck our Facebook and Instagram for more details each month!
URL:https://citycenterdanbury.com/event/danbury-pop-up-play/2021-07-30/
LOCATION:Downtown Danbury\, CT\, 250 Main St.\, Danbury\, CT\, 06810
CATEGORIES:CityCenter Danbury,Community Events
ATTACH;FMTTYPE=image/png:https://citycenterdanbury.com/wp-content/uploads/2021/05/IMG_9344.png
END:VEVENT
BEGIN:VEVENT
DTSTART;TZID=America/New_York:20210723T160000
DTEND;TZID=America/New_York:20210723T200000
DTSTAMP:20260419T164843
CREATED:20210528T190443Z
LAST-MODIFIED:20210623T152858Z
UID:10000099-1627056000-1627070400@citycenterdanbury.com
SUMMARY:Danbury Pop-Up & Play
DESCRIPTION:In collaboration with Blue Haus Group\, the “PopUp & Play” event series will run along Main Street every Friday from 4 pm to 7 pm\, June through August. \nVendors for the month of June include a handmade card business\, a handmade bathing suit shop\, and a pet-themed accessory shop. In addition to retail vendors\, the series will feature experiences such as Art Vibes\, a unique pop-up paint-and-sip event\, and free table tennis from PoP Table Tennis\, which will occupy outdoor space (weather permitting). \nCheck our Facebook and Instagram for more details each month!
URL:https://citycenterdanbury.com/event/danbury-pop-up-play/2021-07-23/
LOCATION:Downtown Danbury\, CT\, 250 Main St.\, Danbury\, CT\, 06810
CATEGORIES:CityCenter Danbury,Community Events
ATTACH;FMTTYPE=image/png:https://citycenterdanbury.com/wp-content/uploads/2021/05/IMG_9344.png
END:VEVENT
BEGIN:VEVENT
DTSTART;TZID=America/New_York:20210716T160000
DTEND;TZID=America/New_York:20210716T200000
DTSTAMP:20260419T164843
CREATED:20210528T190443Z
LAST-MODIFIED:20210623T152858Z
UID:10000098-1626451200-1626465600@citycenterdanbury.com
SUMMARY:Danbury Pop-Up & Play
DESCRIPTION:In collaboration with Blue Haus Group\, the “PopUp & Play” event series will run along Main Street every Friday from 4 pm to 7 pm\, June through August. \nVendors for the month of June include a handmade card business\, a handmade bathing suit shop\, and a pet-themed accessory shop. In addition to retail vendors\, the series will feature experiences such as Art Vibes\, a unique pop-up paint-and-sip event\, and free table tennis from PoP Table Tennis\, which will occupy outdoor space (weather permitting). \nCheck our Facebook and Instagram for more details each month!
URL:https://citycenterdanbury.com/event/danbury-pop-up-play/2021-07-16/
LOCATION:Downtown Danbury\, CT\, 250 Main St.\, Danbury\, CT\, 06810
CATEGORIES:CityCenter Danbury,Community Events
ATTACH;FMTTYPE=image/png:https://citycenterdanbury.com/wp-content/uploads/2021/05/IMG_9344.png
END:VEVENT
BEGIN:VEVENT
DTSTART;TZID=America/New_York:20210709T160000
DTEND;TZID=America/New_York:20210709T200000
DTSTAMP:20260419T164843
CREATED:20210528T190443Z
LAST-MODIFIED:20210623T152858Z
UID:10000097-1625846400-1625860800@citycenterdanbury.com
SUMMARY:Danbury Pop-Up & Play
DESCRIPTION:In collaboration with Blue Haus Group\, the “PopUp & Play” event series will run along Main Street every Friday from 4 pm to 7 pm\, June through August. \nVendors for the month of June include a handmade card business\, a handmade bathing suit shop\, and a pet-themed accessory shop. In addition to retail vendors\, the series will feature experiences such as Art Vibes\, a unique pop-up paint-and-sip event\, and free table tennis from PoP Table Tennis\, which will occupy outdoor space (weather permitting). \nCheck our Facebook and Instagram for more details each month!
URL:https://citycenterdanbury.com/event/danbury-pop-up-play/2021-07-09/
LOCATION:Downtown Danbury\, CT\, 250 Main St.\, Danbury\, CT\, 06810
CATEGORIES:CityCenter Danbury,Community Events
ATTACH;FMTTYPE=image/png:https://citycenterdanbury.com/wp-content/uploads/2021/05/IMG_9344.png
END:VEVENT
BEGIN:VEVENT
DTSTART;TZID=America/New_York:20210702T160000
DTEND;TZID=America/New_York:20210702T200000
DTSTAMP:20260419T164843
CREATED:20210528T190443Z
LAST-MODIFIED:20210623T152858Z
UID:10000096-1625241600-1625256000@citycenterdanbury.com
SUMMARY:Danbury Pop-Up & Play
DESCRIPTION:In collaboration with Blue Haus Group\, the “PopUp & Play” event series will run along Main Street every Friday from 4 pm to 7 pm\, June through August. \nVendors for the month of June include a handmade card business\, a handmade bathing suit shop\, and a pet-themed accessory shop. In addition to retail vendors\, the series will feature experiences such as Art Vibes\, a unique pop-up paint-and-sip event\, and free table tennis from PoP Table Tennis\, which will occupy outdoor space (weather permitting). \nCheck our Facebook and Instagram for more details each month!
URL:https://citycenterdanbury.com/event/danbury-pop-up-play/2021-07-02/
LOCATION:Downtown Danbury\, CT\, 250 Main St.\, Danbury\, CT\, 06810
CATEGORIES:CityCenter Danbury,Community Events
ATTACH;FMTTYPE=image/png:https://citycenterdanbury.com/wp-content/uploads/2021/05/IMG_9344.png
END:VEVENT
BEGIN:VEVENT
DTSTART;TZID=America/New_York:20210625T190000
DTEND;TZID=America/New_York:20210625T203000
DTSTAMP:20260419T164843
CREATED:20210623T160058Z
LAST-MODIFIED:20210623T180254Z
UID:10000083-1624647600-1624653000@citycenterdanbury.com
SUMMARY:Best Trivia Ever
DESCRIPTION:BEST TRIVIA EVER PARTNERS WITH THE CITIES OF STAMFORD & DANBURY FOR SUMMER TRIVIA SERIES\n\n\nBest Trivia Ever is proud to announce a partnership with both Stamford Downtown and CityCenter Danbury for two Summer Trivia Series\, taking place in June\, July and August. \nThe Stamford Downtown Summer Trivia Series will take place outdoors from Veteran’s Park in Stamford. It will consist of three Thursday night events taking place June 24th\, July 22nd and August 26th. All three events have a 7pm start time and are free to the public. \nThe CityCenter Danbury Summer Trivia Series will take place outdoors from Kennedy Park in Danbury. This series will consist of three Friday night events taking place June 25th\, July 30th and August 27th. All three events have a 7pm start time and are free to the public. \nThese Summer Trivia Series will consist of general knowledge trivia\, covering a wide range of topics. Each event will have prizes and other surprises throughout the night. \nFor more information on all of these events keep tabs on Best Trivia Ever on both Instagram and Facebook
URL:https://citycenterdanbury.com/event/best-trivia-ever/2021-06-25/
LOCATION:Kennedy Park\, Kennedy Avenue\, Danbury\, CT
CATEGORIES:CityCenter Danbury,Community Events
ATTACH;FMTTYPE=image/jpeg:https://citycenterdanbury.com/wp-content/uploads/2021/06/CITY-CENTER-DANBURY-PHOTO.jpg
END:VEVENT
BEGIN:VEVENT
DTSTART;TZID=America/New_York:20210625T160000
DTEND;TZID=America/New_York:20210625T200000
DTSTAMP:20260419T164843
CREATED:20210528T190443Z
LAST-MODIFIED:20210623T152858Z
UID:10000095-1624636800-1624651200@citycenterdanbury.com
SUMMARY:Danbury Pop-Up & Play
DESCRIPTION:In collaboration with Blue Haus Group\, the “PopUp & Play” event series will run along Main Street every Friday from 4 pm to 7 pm\, June through August. \nVendors for the month of June include a handmade card business\, a handmade bathing suit shop\, and a pet-themed accessory shop. In addition to retail vendors\, the series will feature experiences such as Art Vibes\, a unique pop-up paint-and-sip event\, and free table tennis from PoP Table Tennis\, which will occupy outdoor space (weather permitting). \nCheck our Facebook and Instagram for more details each month!
URL:https://citycenterdanbury.com/event/danbury-pop-up-play/2021-06-25/
LOCATION:Downtown Danbury\, CT\, 250 Main St.\, Danbury\, CT\, 06810
CATEGORIES:CityCenter Danbury,Community Events
ATTACH;FMTTYPE=image/png:https://citycenterdanbury.com/wp-content/uploads/2021/05/IMG_9344.png
END:VEVENT
BEGIN:VEVENT
DTSTART;TZID=America/New_York:20210618T160000
DTEND;TZID=America/New_York:20210618T200000
DTSTAMP:20260419T164843
CREATED:20210528T190443Z
LAST-MODIFIED:20210623T152858Z
UID:10000094-1624032000-1624046400@citycenterdanbury.com
SUMMARY:Danbury Pop-Up & Play
DESCRIPTION:In collaboration with Blue Haus Group\, the “PopUp & Play” event series will run along Main Street every Friday from 4 pm to 7 pm\, June through August. \nVendors for the month of June include a handmade card business\, a handmade bathing suit shop\, and a pet-themed accessory shop. In addition to retail vendors\, the series will feature experiences such as Art Vibes\, a unique pop-up paint-and-sip event\, and free table tennis from PoP Table Tennis\, which will occupy outdoor space (weather permitting). \nCheck our Facebook and Instagram for more details each month!
URL:https://citycenterdanbury.com/event/danbury-pop-up-play/2021-06-18/
LOCATION:Downtown Danbury\, CT\, 250 Main St.\, Danbury\, CT\, 06810
CATEGORIES:CityCenter Danbury,Community Events
ATTACH;FMTTYPE=image/png:https://citycenterdanbury.com/wp-content/uploads/2021/05/IMG_9344.png
END:VEVENT
BEGIN:VEVENT
DTSTART;TZID=America/New_York:20210611T160000
DTEND;TZID=America/New_York:20210611T200000
DTSTAMP:20260419T164843
CREATED:20210528T190443Z
LAST-MODIFIED:20210623T152858Z
UID:10000093-1623427200-1623441600@citycenterdanbury.com
SUMMARY:Danbury Pop-Up & Play
DESCRIPTION:In collaboration with Blue Haus Group\, the “PopUp & Play” event series will run along Main Street every Friday from 4 pm to 7 pm\, June through August. \nVendors for the month of June include a handmade card business\, a handmade bathing suit shop\, and a pet-themed accessory shop. In addition to retail vendors\, the series will feature experiences such as Art Vibes\, a unique pop-up paint-and-sip event\, and free table tennis from PoP Table Tennis\, which will occupy outdoor space (weather permitting). \nCheck our Facebook and Instagram for more details each month!
URL:https://citycenterdanbury.com/event/danbury-pop-up-play/2021-06-11/
LOCATION:Downtown Danbury\, CT\, 250 Main St.\, Danbury\, CT\, 06810
CATEGORIES:CityCenter Danbury,Community Events
ATTACH;FMTTYPE=image/png:https://citycenterdanbury.com/wp-content/uploads/2021/05/IMG_9344.png
END:VEVENT
BEGIN:VEVENT
DTSTART;VALUE=DATE:20201116
DTEND;VALUE=DATE:20201128
DTSTAMP:20260419T164843
CREATED:20201116T205258Z
LAST-MODIFIED:20201124T205806Z
UID:10000117-1605484800-1606521599@citycenterdanbury.com
SUMMARY:United Way Feeding Our Neighbors Community Challenge
DESCRIPTION:A community fundraiser to raise $100\,000 for Danbury area food pantries! Ends 11/27!
URL:https://citycenterdanbury.com/event/united-way-feeding-our-neighbors-community-challenge/
LOCATION:CT
CATEGORIES:Community Events,Fundraiser
END:VEVENT
END:VCALENDAR