BEGIN:VCALENDAR
VERSION:2.0
PRODID:-//CityCenter Danbury - ECPv6.15.19//NONSGML v1.0//EN
CALSCALE:GREGORIAN
METHOD:PUBLISH
X-WR-CALNAME:CityCenter Danbury
X-ORIGINAL-URL:https://citycenterdanbury.com
X-WR-CALDESC:Events for CityCenter Danbury
REFRESH-INTERVAL;VALUE=DURATION:PT1H
X-Robots-Tag:noindex
X-PUBLISHED-TTL:PT1H
BEGIN:VTIMEZONE
TZID:America/New_York
BEGIN:DAYLIGHT
TZOFFSETFROM:-0500
TZOFFSETTO:-0400
TZNAME:EDT
DTSTART:20190310T070000
END:DAYLIGHT
BEGIN:STANDARD
TZOFFSETFROM:-0400
TZOFFSETTO:-0500
TZNAME:EST
DTSTART:20191103T060000
END:STANDARD
BEGIN:DAYLIGHT
TZOFFSETFROM:-0500
TZOFFSETTO:-0400
TZNAME:EDT
DTSTART:20200308T070000
END:DAYLIGHT
BEGIN:STANDARD
TZOFFSETFROM:-0400
TZOFFSETTO:-0500
TZNAME:EST
DTSTART:20201101T060000
END:STANDARD
BEGIN:DAYLIGHT
TZOFFSETFROM:-0500
TZOFFSETTO:-0400
TZNAME:EDT
DTSTART:20210314T070000
END:DAYLIGHT
BEGIN:STANDARD
TZOFFSETFROM:-0400
TZOFFSETTO:-0500
TZNAME:EST
DTSTART:20211107T060000
END:STANDARD
BEGIN:DAYLIGHT
TZOFFSETFROM:-0500
TZOFFSETTO:-0400
TZNAME:EDT
DTSTART:20220313T070000
END:DAYLIGHT
BEGIN:STANDARD
TZOFFSETFROM:-0400
TZOFFSETTO:-0500
TZNAME:EST
DTSTART:20221106T060000
END:STANDARD
BEGIN:DAYLIGHT
TZOFFSETFROM:-0500
TZOFFSETTO:-0400
TZNAME:EDT
DTSTART:20230312T070000
END:DAYLIGHT
BEGIN:STANDARD
TZOFFSETFROM:-0400
TZOFFSETTO:-0500
TZNAME:EST
DTSTART:20231105T060000
END:STANDARD
BEGIN:DAYLIGHT
TZOFFSETFROM:-0500
TZOFFSETTO:-0400
TZNAME:EDT
DTSTART:20240310T070000
END:DAYLIGHT
BEGIN:STANDARD
TZOFFSETFROM:-0400
TZOFFSETTO:-0500
TZNAME:EST
DTSTART:20241103T060000
END:STANDARD
BEGIN:DAYLIGHT
TZOFFSETFROM:-0500
TZOFFSETTO:-0400
TZNAME:EDT
DTSTART:20250309T070000
END:DAYLIGHT
BEGIN:STANDARD
TZOFFSETFROM:-0400
TZOFFSETTO:-0500
TZNAME:EST
DTSTART:20251102T060000
END:STANDARD
END:VTIMEZONE
BEGIN:VEVENT
DTSTART;TZID=America/New_York:20240518T110000
DTEND;TZID=America/New_York:20240518T150000
DTSTAMP:20260419T154259
CREATED:20240301T184348Z
LAST-MODIFIED:20240503T152849Z
UID:10000211-1716030000-1716044400@citycenterdanbury.com
SUMMARY:Fashion on Kennedy
DESCRIPTION:Explore the Latest Trends & Styles from Local Vendors!\nCityCenter Danbury is thrilled to present Fashion on Kennedy Park\, Saturday\, May 18th\, from 11 am to 3 pm. Join us for an exclusive fashion experience at our Pop-Up Fair! Discover unique pieces from emerging designers and renowned brands\, all nestled in the heart of Kennedy Park\, Danbury\, CT 06810. \n  \n🛍️ Shop ‘Til You Drop: Browse a curated selection of clothing\, accessories\, jewelry\, and more \n👗 Fashion Showcase: Witness live runway shows featuring the hottest looks of the season \n💄 Beauty Corner: Pamper yourself with mini-makeovers and beauty consultations \n🎁 Exclusive Offers: Enjoy special discounts and deals available only at the fair \n🍔 Food Truck: Delight your taste buds with tasty treats while you explore the park \n  \nDon’t miss out on this fashion extravaganza! Grab your friends and join us for a day of style and glamour!!! \n  \nIf you would like to be a vendor at this event\, click below:  \nVendor Application Link
URL:https://citycenterdanbury.com/event/fashion-on-kennedy/
LOCATION:Kennedy Park\, Kennedy Avenue\, Danbury\, CT
CATEGORIES:Family,Fashion,Shopping
ATTACH;FMTTYPE=image/jpeg:https://citycenterdanbury.com/wp-content/uploads/2024/03/Fashion-on-Kennedy-FLYER-scaled.jpg
END:VEVENT
BEGIN:VEVENT
DTSTART;VALUE=DATE:20201204
DTEND;VALUE=DATE:20210301
DTSTAMP:20260419T154259
CREATED:20201201T191614Z
LAST-MODIFIED:20201224T175236Z
UID:10000046-1607040000-1614556799@citycenterdanbury.com
SUMMARY:2020 Snowman Scavenger Hunt
DESCRIPTION:Share a photo with #BuyLocalDanbury for a chance to win a $50 prize pack. Click to view Official Rules.
URL:https://citycenterdanbury.com/event/snowman-scavenger-hunt/
LOCATION:CT
CATEGORIES:Holiday,Shopping,Small Business
ATTACH;FMTTYPE=image/png:https://citycenterdanbury.com/wp-content/uploads/2020/12/Website-Event-300px_Snowman-Scavenger-Hunt.png
END:VEVENT
BEGIN:VEVENT
DTSTART;TZID=America/New_York:20201124T080000
DTEND;TZID=America/New_York:20201124T170000
DTSTAMP:20260419T154259
CREATED:20201124T210715Z
LAST-MODIFIED:20201124T210715Z
UID:10000116-1606204800-1606237200@citycenterdanbury.com
SUMMARY:Small Business Saturday
DESCRIPTION:
URL:https://citycenterdanbury.com/event/small-business-saturday/
LOCATION:CT
CATEGORIES:Business,Shopping
END:VEVENT
END:VCALENDAR