BEGIN:VCALENDAR
VERSION:2.0
PRODID:-//CityCenter Danbury - ECPv6.15.19//NONSGML v1.0//EN
CALSCALE:GREGORIAN
METHOD:PUBLISH
X-WR-CALNAME:CityCenter Danbury
X-ORIGINAL-URL:https://citycenterdanbury.com
X-WR-CALDESC:Events for CityCenter Danbury
REFRESH-INTERVAL;VALUE=DURATION:PT1H
X-Robots-Tag:noindex
X-PUBLISHED-TTL:PT1H
BEGIN:VTIMEZONE
TZID:America/New_York
BEGIN:DAYLIGHT
TZOFFSETFROM:-0500
TZOFFSETTO:-0400
TZNAME:EDT
DTSTART:20200308T070000
END:DAYLIGHT
BEGIN:STANDARD
TZOFFSETFROM:-0400
TZOFFSETTO:-0500
TZNAME:EST
DTSTART:20201101T060000
END:STANDARD
BEGIN:DAYLIGHT
TZOFFSETFROM:-0500
TZOFFSETTO:-0400
TZNAME:EDT
DTSTART:20210314T070000
END:DAYLIGHT
BEGIN:STANDARD
TZOFFSETFROM:-0400
TZOFFSETTO:-0500
TZNAME:EST
DTSTART:20211107T060000
END:STANDARD
BEGIN:DAYLIGHT
TZOFFSETFROM:-0500
TZOFFSETTO:-0400
TZNAME:EDT
DTSTART:20220313T070000
END:DAYLIGHT
BEGIN:STANDARD
TZOFFSETFROM:-0400
TZOFFSETTO:-0500
TZNAME:EST
DTSTART:20221106T060000
END:STANDARD
END:VTIMEZONE
BEGIN:VEVENT
DTSTART;TZID=America/New_York:20210113T160000
DTEND;TZID=America/New_York:20210113T163000
DTSTAMP:20260419T185507
CREATED:20201224T171238Z
LAST-MODIFIED:20210112T145243Z
UID:10000034-1610553600-1610555400@citycenterdanbury.com
SUMMARY:Rhythm Kids Online! by Music Together
DESCRIPTION:10-week virtual music\, movement and drumming classes for kids ages 5-8. (Deadline to register is January 20th)Click here for a short video on the Rhythm Kids Online Program. Register.
URL:https://citycenterdanbury.com/event/rhythm-kids-online-by-music-together/2021-01-13/
CATEGORIES:Music,Virtual
ATTACH;FMTTYPE=image/png:https://citycenterdanbury.com/wp-content/uploads/2020/12/Website-Event.png
END:VEVENT
BEGIN:VEVENT
DTSTART;TZID=America/New_York:20210120T160000
DTEND;TZID=America/New_York:20210120T163000
DTSTAMP:20260419T185507
CREATED:20201224T171238Z
LAST-MODIFIED:20210112T145243Z
UID:10000035-1611158400-1611160200@citycenterdanbury.com
SUMMARY:Rhythm Kids Online! by Music Together
DESCRIPTION:10-week virtual music\, movement and drumming classes for kids ages 5-8. (Deadline to register is January 20th)Click here for a short video on the Rhythm Kids Online Program. Register.
URL:https://citycenterdanbury.com/event/rhythm-kids-online-by-music-together/2021-01-20/
CATEGORIES:Music,Virtual
ATTACH;FMTTYPE=image/png:https://citycenterdanbury.com/wp-content/uploads/2020/12/Website-Event.png
END:VEVENT
BEGIN:VEVENT
DTSTART;TZID=America/New_York:20210127T160000
DTEND;TZID=America/New_York:20210127T163000
DTSTAMP:20260419T185507
CREATED:20201224T171238Z
LAST-MODIFIED:20210112T145243Z
UID:10000036-1611763200-1611765000@citycenterdanbury.com
SUMMARY:Rhythm Kids Online! by Music Together
DESCRIPTION:10-week virtual music\, movement and drumming classes for kids ages 5-8. (Deadline to register is January 20th)Click here for a short video on the Rhythm Kids Online Program. Register.
URL:https://citycenterdanbury.com/event/rhythm-kids-online-by-music-together/2021-01-27/
CATEGORIES:Music,Virtual
ATTACH;FMTTYPE=image/png:https://citycenterdanbury.com/wp-content/uploads/2020/12/Website-Event.png
END:VEVENT
BEGIN:VEVENT
DTSTART;TZID=America/New_York:20210203T160000
DTEND;TZID=America/New_York:20210203T163000
DTSTAMP:20260419T185507
CREATED:20201224T171238Z
LAST-MODIFIED:20210112T145243Z
UID:10000037-1612368000-1612369800@citycenterdanbury.com
SUMMARY:Rhythm Kids Online! by Music Together
DESCRIPTION:10-week virtual music\, movement and drumming classes for kids ages 5-8. (Deadline to register is January 20th)Click here for a short video on the Rhythm Kids Online Program. Register.
URL:https://citycenterdanbury.com/event/rhythm-kids-online-by-music-together/2021-02-03/
CATEGORIES:Music,Virtual
ATTACH;FMTTYPE=image/png:https://citycenterdanbury.com/wp-content/uploads/2020/12/Website-Event.png
END:VEVENT
BEGIN:VEVENT
DTSTART;TZID=America/New_York:20210210T160000
DTEND;TZID=America/New_York:20210210T163000
DTSTAMP:20260419T185507
CREATED:20201224T171238Z
LAST-MODIFIED:20210112T145243Z
UID:10000038-1612972800-1612974600@citycenterdanbury.com
SUMMARY:Rhythm Kids Online! by Music Together
DESCRIPTION:10-week virtual music\, movement and drumming classes for kids ages 5-8. (Deadline to register is January 20th)Click here for a short video on the Rhythm Kids Online Program. Register.
URL:https://citycenterdanbury.com/event/rhythm-kids-online-by-music-together/2021-02-10/
CATEGORIES:Music,Virtual
ATTACH;FMTTYPE=image/png:https://citycenterdanbury.com/wp-content/uploads/2020/12/Website-Event.png
END:VEVENT
BEGIN:VEVENT
DTSTART;TZID=America/New_York:20210217T160000
DTEND;TZID=America/New_York:20210217T163000
DTSTAMP:20260419T185507
CREATED:20201224T171238Z
LAST-MODIFIED:20210112T145243Z
UID:10000039-1613577600-1613579400@citycenterdanbury.com
SUMMARY:Rhythm Kids Online! by Music Together
DESCRIPTION:10-week virtual music\, movement and drumming classes for kids ages 5-8. (Deadline to register is January 20th)Click here for a short video on the Rhythm Kids Online Program. Register.
URL:https://citycenterdanbury.com/event/rhythm-kids-online-by-music-together/2021-02-17/
CATEGORIES:Music,Virtual
ATTACH;FMTTYPE=image/png:https://citycenterdanbury.com/wp-content/uploads/2020/12/Website-Event.png
END:VEVENT
BEGIN:VEVENT
DTSTART;TZID=America/New_York:20210224T160000
DTEND;TZID=America/New_York:20210224T163000
DTSTAMP:20260419T185507
CREATED:20201224T171238Z
LAST-MODIFIED:20210112T145243Z
UID:10000040-1614182400-1614184200@citycenterdanbury.com
SUMMARY:Rhythm Kids Online! by Music Together
DESCRIPTION:10-week virtual music\, movement and drumming classes for kids ages 5-8. (Deadline to register is January 20th)Click here for a short video on the Rhythm Kids Online Program. Register.
URL:https://citycenterdanbury.com/event/rhythm-kids-online-by-music-together/2021-02-24/
CATEGORIES:Music,Virtual
ATTACH;FMTTYPE=image/png:https://citycenterdanbury.com/wp-content/uploads/2020/12/Website-Event.png
END:VEVENT
BEGIN:VEVENT
DTSTART;TZID=America/New_York:20210303T160000
DTEND;TZID=America/New_York:20210303T163000
DTSTAMP:20260419T185507
CREATED:20201224T171238Z
LAST-MODIFIED:20210112T145243Z
UID:10000041-1614787200-1614789000@citycenterdanbury.com
SUMMARY:Rhythm Kids Online! by Music Together
DESCRIPTION:10-week virtual music\, movement and drumming classes for kids ages 5-8. (Deadline to register is January 20th)Click here for a short video on the Rhythm Kids Online Program. Register.
URL:https://citycenterdanbury.com/event/rhythm-kids-online-by-music-together/2021-03-03/
CATEGORIES:Music,Virtual
ATTACH;FMTTYPE=image/png:https://citycenterdanbury.com/wp-content/uploads/2020/12/Website-Event.png
END:VEVENT
BEGIN:VEVENT
DTSTART;TZID=America/New_York:20210310T160000
DTEND;TZID=America/New_York:20210310T163000
DTSTAMP:20260419T185507
CREATED:20201224T171238Z
LAST-MODIFIED:20210112T145243Z
UID:10000042-1615392000-1615393800@citycenterdanbury.com
SUMMARY:Rhythm Kids Online! by Music Together
DESCRIPTION:10-week virtual music\, movement and drumming classes for kids ages 5-8. (Deadline to register is January 20th)Click here for a short video on the Rhythm Kids Online Program. Register.
URL:https://citycenterdanbury.com/event/rhythm-kids-online-by-music-together/2021-03-10/
CATEGORIES:Music,Virtual
ATTACH;FMTTYPE=image/png:https://citycenterdanbury.com/wp-content/uploads/2020/12/Website-Event.png
END:VEVENT
BEGIN:VEVENT
DTSTART;TZID=America/New_York:20210317T160000
DTEND;TZID=America/New_York:20210317T163000
DTSTAMP:20260419T185507
CREATED:20201224T171238Z
LAST-MODIFIED:20210112T145243Z
UID:10000043-1615996800-1615998600@citycenterdanbury.com
SUMMARY:Rhythm Kids Online! by Music Together
DESCRIPTION:10-week virtual music\, movement and drumming classes for kids ages 5-8. (Deadline to register is January 20th)Click here for a short video on the Rhythm Kids Online Program. Register.
URL:https://citycenterdanbury.com/event/rhythm-kids-online-by-music-together/2021-03-17/
CATEGORIES:Music,Virtual
ATTACH;FMTTYPE=image/png:https://citycenterdanbury.com/wp-content/uploads/2020/12/Website-Event.png
END:VEVENT
END:VCALENDAR