BEGIN:VCALENDAR
VERSION:2.0
PRODID:-//CityCenter Danbury - ECPv6.15.19//NONSGML v1.0//EN
CALSCALE:GREGORIAN
METHOD:PUBLISH
X-WR-CALNAME:CityCenter Danbury
X-ORIGINAL-URL:https://citycenterdanbury.com
X-WR-CALDESC:Events for CityCenter Danbury
REFRESH-INTERVAL;VALUE=DURATION:PT1H
X-Robots-Tag:noindex
X-PUBLISHED-TTL:PT1H
BEGIN:VTIMEZONE
TZID:America/New_York
BEGIN:DAYLIGHT
TZOFFSETFROM:-0500
TZOFFSETTO:-0400
TZNAME:EDT
DTSTART:20200308T070000
END:DAYLIGHT
BEGIN:STANDARD
TZOFFSETFROM:-0400
TZOFFSETTO:-0500
TZNAME:EST
DTSTART:20201101T060000
END:STANDARD
BEGIN:DAYLIGHT
TZOFFSETFROM:-0500
TZOFFSETTO:-0400
TZNAME:EDT
DTSTART:20210314T070000
END:DAYLIGHT
BEGIN:STANDARD
TZOFFSETFROM:-0400
TZOFFSETTO:-0500
TZNAME:EST
DTSTART:20211107T060000
END:STANDARD
BEGIN:DAYLIGHT
TZOFFSETFROM:-0500
TZOFFSETTO:-0400
TZNAME:EDT
DTSTART:20220313T070000
END:DAYLIGHT
BEGIN:STANDARD
TZOFFSETFROM:-0400
TZOFFSETTO:-0500
TZNAME:EST
DTSTART:20221106T060000
END:STANDARD
BEGIN:DAYLIGHT
TZOFFSETFROM:-0500
TZOFFSETTO:-0400
TZNAME:EDT
DTSTART:20230312T070000
END:DAYLIGHT
BEGIN:STANDARD
TZOFFSETFROM:-0400
TZOFFSETTO:-0500
TZNAME:EST
DTSTART:20231105T060000
END:STANDARD
END:VTIMEZONE
BEGIN:VEVENT
DTSTART;TZID=America/New_York:20211001T000000
DTEND;TZID=America/New_York:20211031T233000
DTSTAMP:20260420T003621
CREATED:20210610T154018Z
LAST-MODIFIED:20211012T205856Z
UID:10000087-1633046400-1635723000@citycenterdanbury.com
SUMMARY:Downtown Grub Crawl
DESCRIPTION:CityCenter Danbury is excited to announce our most tasty event\, scheduled for ALL MONTH LONG!!!!\nDid you happen to miss out on last month’s Grub Crawl? Have no fear\, for October is here! Keep in mind this will be our LAST crawl (food tour) of the year!! Satisfy your hunger from these four delicious restaurants. We’ve planned out the slightly gluttonous itinerary\, so all you have to do is put on a pair of eating pants – trust us\, you’ll need ’em!  Click on the link below for more details and to purchase your ticket!\n \n  \n \nhttps://citycenterdanbury.ticketbud.com/october-downtown-grub-crawl\n \n\n 
URL:https://citycenterdanbury.com/event/october-downtown-grub-crawl/
LOCATION:Downtown Danbury\, CT\, 250 Main St.\, Danbury\, CT\, 06810
CATEGORIES:Food
ATTACH;FMTTYPE=image/jpeg:https://citycenterdanbury.com/wp-content/uploads/2021/06/GrubCrawl-FB-Event-Cover-Oct2021.jpg
END:VEVENT
BEGIN:VEVENT
DTSTART;VALUE=DATE:20220401
DTEND;VALUE=DATE:20220402
DTSTAMP:20260420T003621
CREATED:20220218T204949Z
LAST-MODIFIED:20220411T182838Z
UID:10000057-1648771200-1648803600@citycenterdanbury.com
SUMMARY:Tastes of Danbury
DESCRIPTION:CityCenter Danbury is excited to announce a very tasty event scheduled for the month of April – “Tastes of Danbury”. \nLooking for a great way to get out and enjoy life while introducing your palate to some delicious food?  For only $25\, you can enjoy a variety of delicious meals from four different establishments throughout our downtown area!  You read that right\, 1 payment of $25 gets you (4) different meals\, and you can go whenever you want through the month of April\, that’s less than $10 a meal\, talk about savings!!!  With so many awesome restaurants to check out\, we had to split them into multiple months…and yes there will be more Tastes to come.   We have planned out a slightly gluttonous itinerary\, so all you have to do is put on a pair of eating pants – trust us\, you’ll need ’em!   To purchase tickets and for more details\, please go to the link below! \n \nhttps://citycenterdanbury.ticketbud.com/tastes-of-danbury- \n 
URL:https://citycenterdanbury.com/event/tastes-of-danbury/
LOCATION:Downtown Danbury\, CT\, 250 Main St.\, Danbury\, CT\, 06810
CATEGORIES:Food
END:VEVENT
END:VCALENDAR