BEGIN:VCALENDAR
VERSION:2.0
PRODID:-//CityCenter Danbury - ECPv6.15.19//NONSGML v1.0//EN
CALSCALE:GREGORIAN
METHOD:PUBLISH
X-ORIGINAL-URL:https://citycenterdanbury.com
X-WR-CALDESC:Events for CityCenter Danbury
REFRESH-INTERVAL;VALUE=DURATION:PT1H
X-Robots-Tag:noindex
X-PUBLISHED-TTL:PT1H
BEGIN:VTIMEZONE
TZID:America/New_York
BEGIN:DAYLIGHT
TZOFFSETFROM:-0500
TZOFFSETTO:-0400
TZNAME:EDT
DTSTART:20190310T070000
END:DAYLIGHT
BEGIN:STANDARD
TZOFFSETFROM:-0400
TZOFFSETTO:-0500
TZNAME:EST
DTSTART:20191103T060000
END:STANDARD
BEGIN:DAYLIGHT
TZOFFSETFROM:-0500
TZOFFSETTO:-0400
TZNAME:EDT
DTSTART:20200308T070000
END:DAYLIGHT
BEGIN:STANDARD
TZOFFSETFROM:-0400
TZOFFSETTO:-0500
TZNAME:EST
DTSTART:20201101T060000
END:STANDARD
BEGIN:DAYLIGHT
TZOFFSETFROM:-0500
TZOFFSETTO:-0400
TZNAME:EDT
DTSTART:20210314T070000
END:DAYLIGHT
BEGIN:STANDARD
TZOFFSETFROM:-0400
TZOFFSETTO:-0500
TZNAME:EST
DTSTART:20211107T060000
END:STANDARD
END:VTIMEZONE
BEGIN:VEVENT
DTSTART;TZID=America/New_York:20201030T100000
DTEND;TZID=America/New_York:20201030T180000
DTSTAMP:20260419T134911
CREATED:20201020T194511Z
LAST-MODIFIED:20201020T194511Z
UID:10000050-1604052000-1604080800@citycenterdanbury.com
SUMMARY:Danbury Library's Halloween To Go
DESCRIPTION:Celebrate Halloween with the Danbury Library! Everyone (children\, teens\, and adults) who checks out a book on Friday\, October 30th will receive a Halloween Treat bag filled with a fun surprise!
URL:https://citycenterdanbury.com/event/danbury-librarys-halloween-to-go/
LOCATION:Danbury Library\, 170 Main Street\, Danbury\, Connecticut\, 06810\, United States
CATEGORIES:Family,Holiday
END:VEVENT
END:VCALENDAR