BEGIN:VCALENDAR
VERSION:2.0
PRODID:-//CityCenter Danbury - ECPv6.15.19//NONSGML v1.0//EN
CALSCALE:GREGORIAN
METHOD:PUBLISH
X-ORIGINAL-URL:https://citycenterdanbury.com
X-WR-CALDESC:Events for CityCenter Danbury
REFRESH-INTERVAL;VALUE=DURATION:PT1H
X-Robots-Tag:noindex
X-PUBLISHED-TTL:PT1H
BEGIN:VTIMEZONE
TZID:America/New_York
BEGIN:DAYLIGHT
TZOFFSETFROM:-0500
TZOFFSETTO:-0400
TZNAME:EDT
DTSTART:20240310T070000
END:DAYLIGHT
BEGIN:STANDARD
TZOFFSETFROM:-0400
TZOFFSETTO:-0500
TZNAME:EST
DTSTART:20241103T060000
END:STANDARD
BEGIN:DAYLIGHT
TZOFFSETFROM:-0500
TZOFFSETTO:-0400
TZNAME:EDT
DTSTART:20250309T070000
END:DAYLIGHT
BEGIN:STANDARD
TZOFFSETFROM:-0400
TZOFFSETTO:-0500
TZNAME:EST
DTSTART:20251102T060000
END:STANDARD
BEGIN:DAYLIGHT
TZOFFSETFROM:-0500
TZOFFSETTO:-0400
TZNAME:EDT
DTSTART:20260308T070000
END:DAYLIGHT
BEGIN:STANDARD
TZOFFSETFROM:-0400
TZOFFSETTO:-0500
TZNAME:EST
DTSTART:20261101T060000
END:STANDARD
END:VTIMEZONE
BEGIN:VEVENT
DTSTART;TZID=America/New_York:20250606T190000
DTEND;TZID=America/New_York:20250606T190000
DTSTAMP:20260420T124215
CREATED:20250501T145839Z
LAST-MODIFIED:20250505T142814Z
UID:10000404-1749236400-1749236400@citycenterdanbury.com
SUMMARY:Mighty Ploughboys
DESCRIPTION:🎶 The Danbury Summer Concert Series is BACK THIS FRIDAY\, June 6th at 7:00 PM! 🎶 \nAfter much anticipation\, the Danbury Summer Concert Series continues with a high-energy performance from none other than the Mighty Ploughboys! \n🎉 Looking for a fun night out filled with dancing\, live entertainment\, and good vibes? Then this is where you need to be! Grab your lawn chairs\, blankets\, towels\, whatever you’ve got and let’s PARTY! \n🎸 This concert is part of CityCenter Danbury’s Summer Series\, dedicated to reviving the live music scene and celebrating local talent right in the heart of downtown. \n📍 Location: CityCenter Green – 1 Ives Street\, Danbury🅿️ Parking: Available at Patriot Garage💥 Admission is FREE and open to all! \nDon’t miss this incredible kickoff to a summer of music and memories. See you there!
URL:https://citycenterdanbury.com/event/mighty-ploughboys/
LOCATION:CT
ATTACH;FMTTYPE=image/jpeg:https://citycenterdanbury.com/wp-content/uploads/2025/05/COTG-scaled.jpg
END:VEVENT
END:VCALENDAR