BEGIN:VCALENDAR
VERSION:2.0
PRODID:-//CityCenter Danbury - ECPv6.15.19//NONSGML v1.0//EN
CALSCALE:GREGORIAN
METHOD:PUBLISH
X-WR-CALNAME:CityCenter Danbury
X-ORIGINAL-URL:https://citycenterdanbury.com
X-WR-CALDESC:Events for CityCenter Danbury
REFRESH-INTERVAL;VALUE=DURATION:PT1H
X-Robots-Tag:noindex
X-PUBLISHED-TTL:PT1H
BEGIN:VTIMEZONE
TZID:America/New_York
BEGIN:DAYLIGHT
TZOFFSETFROM:-0500
TZOFFSETTO:-0400
TZNAME:EDT
DTSTART:20240310T070000
END:DAYLIGHT
BEGIN:STANDARD
TZOFFSETFROM:-0400
TZOFFSETTO:-0500
TZNAME:EST
DTSTART:20241103T060000
END:STANDARD
BEGIN:DAYLIGHT
TZOFFSETFROM:-0500
TZOFFSETTO:-0400
TZNAME:EDT
DTSTART:20250309T070000
END:DAYLIGHT
BEGIN:STANDARD
TZOFFSETFROM:-0400
TZOFFSETTO:-0500
TZNAME:EST
DTSTART:20251102T060000
END:STANDARD
BEGIN:DAYLIGHT
TZOFFSETFROM:-0500
TZOFFSETTO:-0400
TZNAME:EDT
DTSTART:20260308T070000
END:DAYLIGHT
BEGIN:STANDARD
TZOFFSETFROM:-0400
TZOFFSETTO:-0500
TZNAME:EST
DTSTART:20261101T060000
END:STANDARD
END:VTIMEZONE
BEGIN:VEVENT
DTSTART;TZID=America/New_York:20250620T190000
DTEND;TZID=America/New_York:20250620T190000
DTSTAMP:20260420T174108
CREATED:20240529T132746Z
LAST-MODIFIED:20250505T141458Z
UID:10000216-1750446000-1750446000@citycenterdanbury.com
SUMMARY:The Men of Soul
DESCRIPTION:Accompanied by a 4-to-7-piece band composed of the tri-state area’s most accomplished musicians. The Men of Soul are unmatched in their approach to providing a power-packed show that will keep you dancing and singing all night long. \nThe Men of Soul perform hit songs\, and revue sets from your favorite R&B artists such as The O’Jays\, (Backstabbers\, For the Love of Money\, I Love Music\, etc.)\, and Earth\, Wind & Fire (September\, Let’s Groove\, Fantasy\, etc.)\,
URL:https://citycenterdanbury.com/event/the-men-of-soul/
LOCATION:Danbury CityCenter Green\, 1 Ives Street\, Danbury\, CT\, 06810
ATTACH;FMTTYPE=image/jpeg:https://citycenterdanbury.com/wp-content/uploads/2025/05/COTG2-scaled.jpg
END:VEVENT
END:VCALENDAR