BEGIN:VCALENDAR
VERSION:2.0
PRODID:-//CityCenter Danbury - ECPv6.15.19//NONSGML v1.0//EN
CALSCALE:GREGORIAN
METHOD:PUBLISH
X-ORIGINAL-URL:https://citycenterdanbury.com
X-WR-CALDESC:Events for CityCenter Danbury
REFRESH-INTERVAL;VALUE=DURATION:PT1H
X-Robots-Tag:noindex
X-PUBLISHED-TTL:PT1H
BEGIN:VTIMEZONE
TZID:America/New_York
BEGIN:DAYLIGHT
TZOFFSETFROM:-0500
TZOFFSETTO:-0400
TZNAME:EDT
DTSTART:20240310T070000
END:DAYLIGHT
BEGIN:STANDARD
TZOFFSETFROM:-0400
TZOFFSETTO:-0500
TZNAME:EST
DTSTART:20241103T060000
END:STANDARD
BEGIN:DAYLIGHT
TZOFFSETFROM:-0500
TZOFFSETTO:-0400
TZNAME:EDT
DTSTART:20250309T070000
END:DAYLIGHT
BEGIN:STANDARD
TZOFFSETFROM:-0400
TZOFFSETTO:-0500
TZNAME:EST
DTSTART:20251102T060000
END:STANDARD
BEGIN:DAYLIGHT
TZOFFSETFROM:-0500
TZOFFSETTO:-0400
TZNAME:EDT
DTSTART:20260308T070000
END:DAYLIGHT
BEGIN:STANDARD
TZOFFSETFROM:-0400
TZOFFSETTO:-0500
TZNAME:EST
DTSTART:20261101T060000
END:STANDARD
END:VTIMEZONE
BEGIN:VEVENT
DTSTART;TZID=America/New_York:20250716T170000
DTEND;TZID=America/New_York:20250716T170000
DTSTAMP:20260420T192910
CREATED:20250707T182137Z
LAST-MODIFIED:20250709T181249Z
UID:10000412-1752685200-1752685200@citycenterdanbury.com
SUMMARY:Danbury F.L.A.G.
DESCRIPTION:We are thrilled to invite you to a joyful and art-filled celebration\, the Grand Opening and Ribbon Cutting of Downtown Danbury’s very first Free Little Art Gallery (F.L.A.G.)! \nThis creative and community-driven project brings a vibrant spark of sustainable public art to our downtown\, and we would be honored to have you join us 😊! \n  \n📅 Date: Wednesday\, July 16th\n⏰ Time: 5:00 PM\n📍 Location: Mothership Bakery\, 331 Main Street\, Danbury\, CT \n  \nAt 5 PM\, we’ll begin with uplifting remarks from Mayor Roberto Alves\, community leaders\, and members of the CityCenter Danbury Arts & Aesthetics Committee\, aka the passionate team who brought this beautiful vision to life 😃 \nWhat is F.L.A.G.?\nInspired by the beloved Free Little Libraries\, the Free Little Art Gallery invites people to take a piece of art\, leave a piece of art.  You’ll find tiny treasures like mini canvases\, 3D art\, postcards\, collages\, mosaics\, and more…it’s art for everyone\, anytime! \nPLUS\, we’ll have hands-on art tables set up for guests who want to create something fun to contribute to the gallery.  Light refreshments and tasty treats will be generously provided by Mothership Bakery!
URL:https://citycenterdanbury.com/event/danbury-f-l-a-g/
LOCATION:CT
ATTACH;FMTTYPE=image/png:https://citycenterdanbury.com/wp-content/uploads/2025/07/Free-Little-Art-Gallery-Ribbon-cutting.png
END:VEVENT
BEGIN:VEVENT
DTSTART;TZID=America/New_York:20250718T190000
DTEND;TZID=America/New_York:20250718T190000
DTSTAMP:20260420T192910
CREATED:20250505T141022Z
LAST-MODIFIED:20250710T132201Z
UID:10000406-1752865200-1752865200@citycenterdanbury.com
SUMMARY:Billy & The Showmen
DESCRIPTION:Get ready for a high-energy night of classic R&B\, Soul\, and Funk as the Danbury Summer Concert Series heats up on Thursday\, July 18th at 7:00 PM with Billy and the Showmen! \n🎶 With decades of experience and an unmatched groove\, this legendary band specializes in the hard-driving sounds of the ’60s and ’70s\, delivering hits by James Brown\, Marvin Gaye\, Kool & the Gang\, Otis Redding\, The Temptations\, Tower of Power\, and many more. \n🎷 Formed in the golden era of soul\, Billy and the Showmen not only held down the stage with their own performances — they also played backup for The Chiffons during the ’70s and ’80s. Their powerful horn section\, soulful vocals\, and tight rhythm will have you dancing from the first note. \n📍 CityCenter Green – 1 Ives Street\, Danbury🅿️ Convenient parking located at Patriot Garage (21 Delay St\, Danbury\, CT 06810 )🎟️ FREE Admission – Family friendly! \n🪩 Bring your lawn chairs\, blankets\, and get ready to groove the night away with one of Connecticut’s most iconic soul bands.
URL:https://citycenterdanbury.com/event/billy-the-showmen/
LOCATION:CT
ATTACH;FMTTYPE=image/jpeg:https://citycenterdanbury.com/wp-content/uploads/2025/05/COTG4-scaled.jpg
END:VEVENT
END:VCALENDAR