BEGIN:VCALENDAR
VERSION:2.0
PRODID:-//CityCenter Danbury - ECPv6.15.19//NONSGML v1.0//EN
CALSCALE:GREGORIAN
METHOD:PUBLISH
X-WR-CALNAME:CityCenter Danbury
X-ORIGINAL-URL:https://citycenterdanbury.com
X-WR-CALDESC:Events for CityCenter Danbury
REFRESH-INTERVAL;VALUE=DURATION:PT1H
X-Robots-Tag:noindex
X-PUBLISHED-TTL:PT1H
BEGIN:VTIMEZONE
TZID:America/New_York
BEGIN:DAYLIGHT
TZOFFSETFROM:-0500
TZOFFSETTO:-0400
TZNAME:EDT
DTSTART:20240310T070000
END:DAYLIGHT
BEGIN:STANDARD
TZOFFSETFROM:-0400
TZOFFSETTO:-0500
TZNAME:EST
DTSTART:20241103T060000
END:STANDARD
BEGIN:DAYLIGHT
TZOFFSETFROM:-0500
TZOFFSETTO:-0400
TZNAME:EDT
DTSTART:20250309T070000
END:DAYLIGHT
BEGIN:STANDARD
TZOFFSETFROM:-0400
TZOFFSETTO:-0500
TZNAME:EST
DTSTART:20251102T060000
END:STANDARD
BEGIN:DAYLIGHT
TZOFFSETFROM:-0500
TZOFFSETTO:-0400
TZNAME:EDT
DTSTART:20260308T070000
END:DAYLIGHT
BEGIN:STANDARD
TZOFFSETFROM:-0400
TZOFFSETTO:-0500
TZNAME:EST
DTSTART:20261101T060000
END:STANDARD
END:VTIMEZONE
BEGIN:VEVENT
DTSTART;TZID=America/New_York:20250801T190000
DTEND;TZID=America/New_York:20250801T190000
DTSTAMP:20260420T225523
CREATED:20250514T172106Z
LAST-MODIFIED:20250710T132710Z
UID:10000410-1754074800-1754074800@citycenterdanbury.com
SUMMARY:Sister Funk
DESCRIPTION:🎶 Danbury Summer Concert Series – Friday\, August 1\, 2025 at 7:00 PM\nFeaturing: Sister Funk \nDon’t let the name fool you\, Sister Funk is not just funk\, they’re a genre-defying\, high-energy rock-country\, folk-pop band with a bold sound and unforgettable stage presence! \n🎸 Based out of New Haven\, CT\, Sister Funk has been lighting up national stages for nearly 20 years\, sharing bills with icons like Melissa Etheridge\, ZZ Top\, Foreigner\, and the B-52s. Through the years (and a little therapy 😄)\, they’ve kept their dynamic shows alive and ever evolving and now they’re bringing that fire to CityCenter Danbury! \nTheir latest album\, Wings to Fly\, is a wild ride of styles:🎵 Country-rock jams like Ride With Me & Life On The Road🎵 Funky-blues grooves like Want What I Want🎵 Surprises like the rock-metal Frostbite and electro-pop One Small Step \nAnd their live performances? Expect the unexpected. 🎤 With multiple instruments\, bold vocals\, and medleys that put their own spin on crowd-favorite covers\, Sister Funk delivers a show with something for everyone. \n📍 CityCenter Green – 1 Ives Street\, Danbury🅿️ Convenient parking located at Patriot Garage (21 Delay St\, Danbury\, CT 06810 )🎟️ FREE Admission – All ages welcome! \n🎉 Come out\, bring your lawn chairs\, and get ready for a night of genre-bending jams and high-energy entertainment!
URL:https://citycenterdanbury.com/event/sister-funk/
LOCATION:CT
ATTACH;FMTTYPE=image/jpeg:https://citycenterdanbury.com/wp-content/uploads/2025/05/Sister-Funk-FLYER-scaled.jpg
END:VEVENT
END:VCALENDAR