BEGIN:VCALENDAR
VERSION:2.0
PRODID:-//CityCenter Danbury - ECPv6.15.19//NONSGML v1.0//EN
CALSCALE:GREGORIAN
METHOD:PUBLISH
X-ORIGINAL-URL:https://citycenterdanbury.com
X-WR-CALDESC:Events for CityCenter Danbury
REFRESH-INTERVAL;VALUE=DURATION:PT1H
X-Robots-Tag:noindex
X-PUBLISHED-TTL:PT1H
BEGIN:VTIMEZONE
TZID:America/New_York
BEGIN:DAYLIGHT
TZOFFSETFROM:-0500
TZOFFSETTO:-0400
TZNAME:EDT
DTSTART:20240310T070000
END:DAYLIGHT
BEGIN:STANDARD
TZOFFSETFROM:-0400
TZOFFSETTO:-0500
TZNAME:EST
DTSTART:20241103T060000
END:STANDARD
BEGIN:DAYLIGHT
TZOFFSETFROM:-0500
TZOFFSETTO:-0400
TZNAME:EDT
DTSTART:20250309T070000
END:DAYLIGHT
BEGIN:STANDARD
TZOFFSETFROM:-0400
TZOFFSETTO:-0500
TZNAME:EST
DTSTART:20251102T060000
END:STANDARD
BEGIN:DAYLIGHT
TZOFFSETFROM:-0500
TZOFFSETTO:-0400
TZNAME:EDT
DTSTART:20260308T070000
END:DAYLIGHT
BEGIN:STANDARD
TZOFFSETFROM:-0400
TZOFFSETTO:-0500
TZNAME:EST
DTSTART:20261101T060000
END:STANDARD
END:VTIMEZONE
BEGIN:VEVENT
DTSTART;TZID=America/New_York:20250808T190000
DTEND;TZID=America/New_York:20250808T190000
DTSTAMP:20260421T020812
CREATED:20250513T154545Z
LAST-MODIFIED:20250710T132923Z
UID:10000408-1754679600-1754679600@citycenterdanbury.com
SUMMARY:Sugar House Band
DESCRIPTION:🎸 Danbury Summer Concert Series – Friday\, August 8\, 2025 at 7:00 PM\nFeaturing: Sugar House Band \nGet ready for a night of high-energy grooves and genre-blending jams as the Danbury Summer Concert Series continues on Friday\, August 8th at 7:00 PM with local favorites Sugar House Band! \n🔥 Born as the house band for a local jam session\, Sugar House has been cooking up a dynamic blend of funk\, soul\, and rock since 2023. Their setlist spans everything from Stevie Wonder and Led Zeppelin to The Allman Brothers and Chris Stapleton\, all with their own bold\, signature flavor. \n🎶 With roots right here in the Danbury area\, the band has grown into a regional powerhouse\, performing at festivals\, local venues\, private events\, and as a staple act at Sugar Hollow Taproom’s biweekly jam sessions. \n📍 CityCenter Green – 1 Ives Street\, Danbury🅿️ Convenient parking located at Patriot Garage (21 Delay St\, Danbury\, CT 06810 )🎟️ FREE Admission – All ages welcome! \n🕺 Bring your friends\, your blankets\, and your dancing shoes — this is a summer night you won’t want to miss.
URL:https://citycenterdanbury.com/event/sugar-house-band/
LOCATION:CT
ATTACH;FMTTYPE=image/jpeg:https://citycenterdanbury.com/wp-content/uploads/2025/05/COTG7-1-scaled.jpg
END:VEVENT
END:VCALENDAR