BEGIN:VCALENDAR
VERSION:2.0
PRODID:-//CityCenter Danbury - ECPv6.15.19//NONSGML v1.0//EN
CALSCALE:GREGORIAN
METHOD:PUBLISH
X-WR-CALNAME:CityCenter Danbury
X-ORIGINAL-URL:https://citycenterdanbury.com
X-WR-CALDESC:Events for CityCenter Danbury
REFRESH-INTERVAL;VALUE=DURATION:PT1H
X-Robots-Tag:noindex
X-PUBLISHED-TTL:PT1H
BEGIN:VTIMEZONE
TZID:America/New_York
BEGIN:DAYLIGHT
TZOFFSETFROM:-0500
TZOFFSETTO:-0400
TZNAME:EDT
DTSTART:20240310T070000
END:DAYLIGHT
BEGIN:STANDARD
TZOFFSETFROM:-0400
TZOFFSETTO:-0500
TZNAME:EST
DTSTART:20241103T060000
END:STANDARD
BEGIN:DAYLIGHT
TZOFFSETFROM:-0500
TZOFFSETTO:-0400
TZNAME:EDT
DTSTART:20250309T070000
END:DAYLIGHT
BEGIN:STANDARD
TZOFFSETFROM:-0400
TZOFFSETTO:-0500
TZNAME:EST
DTSTART:20251102T060000
END:STANDARD
BEGIN:DAYLIGHT
TZOFFSETFROM:-0500
TZOFFSETTO:-0400
TZNAME:EDT
DTSTART:20260308T070000
END:DAYLIGHT
BEGIN:STANDARD
TZOFFSETFROM:-0400
TZOFFSETTO:-0500
TZNAME:EST
DTSTART:20261101T060000
END:STANDARD
END:VTIMEZONE
BEGIN:VEVENT
DTSTART;TZID=America/New_York:20250815T190000
DTEND;TZID=America/New_York:20250815T190000
DTSTAMP:20260420T223922
CREATED:20250513T160154Z
LAST-MODIFIED:20250710T133304Z
UID:10000409-1755284400-1755284400@citycenterdanbury.com
SUMMARY:Leds Groove
DESCRIPTION:⚡️ Danbury Summer Concert Series – Friday\, August 15\, 2025 at 7:00 PM\nFeaturing: Leds Groove \nWe’re going out with a bang! 🎆 Join us for the final concert of the 2025 Danbury Summer Concert Series on Friday\, August 15th at 7:00 PM\, featuring the electrifying energy of Leds Groove\, a tribute to the legendary sounds of Led Zeppelin with a rockin’ twist. \n🎤 This New York and Connecticut-based band brings album-quality performances of all your favorite Zep anthems\, from “Whole Lotta Love” to “Ramble On”\, while mixing in vibes from other rock icons for a truly unforgettable show. \n🎶 Known for their top-tier musicianship and high-octane energy\, Leds Groove delivers a performance that’s fun\, powerful\, and perfect for fans who love to move\, groove\, and sing every word. \nLet’s wrap up this incredible summer season the right way\, with loud guitars\, iconic vocals\, and a whole lotta love. 💥 \n📍 CityCenter Green – 1 Ives Street\, Danbury🅿️ Convenient parking located at Patriot Garage (21 Delay St\, Danbury\, CT 06810 )🎟️ FREE Admission – All ages welcome! \nBring your lawn chairs\, blankets\, and rock spirit and help us close out the summer with one last epic night of live music!
URL:https://citycenterdanbury.com/event/leds-groove/
LOCATION:CT
ATTACH;FMTTYPE=image/jpeg:https://citycenterdanbury.com/wp-content/uploads/2025/05/COTG8-1-scaled.jpg
END:VEVENT
END:VCALENDAR