BEGIN:VCALENDAR
VERSION:2.0
PRODID:-//CityCenter Danbury - ECPv6.15.19//NONSGML v1.0//EN
CALSCALE:GREGORIAN
METHOD:PUBLISH
X-WR-CALNAME:CityCenter Danbury
X-ORIGINAL-URL:https://citycenterdanbury.com
X-WR-CALDESC:Events for CityCenter Danbury
REFRESH-INTERVAL;VALUE=DURATION:PT1H
X-Robots-Tag:noindex
X-PUBLISHED-TTL:PT1H
BEGIN:VTIMEZONE
TZID:America/New_York
BEGIN:DAYLIGHT
TZOFFSETFROM:-0500
TZOFFSETTO:-0400
TZNAME:EDT
DTSTART:20240310T070000
END:DAYLIGHT
BEGIN:STANDARD
TZOFFSETFROM:-0400
TZOFFSETTO:-0500
TZNAME:EST
DTSTART:20241103T060000
END:STANDARD
BEGIN:DAYLIGHT
TZOFFSETFROM:-0500
TZOFFSETTO:-0400
TZNAME:EDT
DTSTART:20250309T070000
END:DAYLIGHT
BEGIN:STANDARD
TZOFFSETFROM:-0400
TZOFFSETTO:-0500
TZNAME:EST
DTSTART:20251102T060000
END:STANDARD
BEGIN:DAYLIGHT
TZOFFSETFROM:-0500
TZOFFSETTO:-0400
TZNAME:EDT
DTSTART:20260308T070000
END:DAYLIGHT
BEGIN:STANDARD
TZOFFSETFROM:-0400
TZOFFSETTO:-0500
TZNAME:EST
DTSTART:20261101T060000
END:STANDARD
END:VTIMEZONE
BEGIN:VEVENT
DTSTART;VALUE=DATE:20250904
DTEND;VALUE=DATE:20251018
DTSTAMP:20260421T164216
CREATED:20230915T125814Z
LAST-MODIFIED:20250930T185913Z
UID:10000205-1756944000-1760745599@citycenterdanbury.com
SUMMARY:Scarecrow Decoration 2025
DESCRIPTION:
URL:https://citycenterdanbury.com/event/scarecrow-decoration-2025/
LOCATION:CT
ATTACH;FMTTYPE=image/png:https://citycenterdanbury.com/wp-content/uploads/2023/09/Falling-In-Love.png
END:VEVENT
BEGIN:VEVENT
DTSTART;TZID=America/New_York:20251003T180000
DTEND;TZID=America/New_York:20251003T200000
DTSTAMP:20260421T164216
CREATED:20250902T174645Z
LAST-MODIFIED:20250902T180845Z
UID:10000413-1759514400-1759521600@citycenterdanbury.com
SUMMARY:Hispanic Heritage Month Celebration
DESCRIPTION:🌟 Celebrate Hispanic Heritage Month! 🌟\nJoin us on Friday\, October 3\, 2025\, for a vibrant evening of music and culture with acclaimed Latin musician Rick Reyes.\nKnown for his powerful storytelling and dynamic performances\, Rick Reyes blends traditional Puerto Rican sounds with salsa\, merengue\, Latin jazz\, and American folk influences. His music honors the richness of his heritage while also carrying messages of social justice\, cultural pride\, and community connection. \nAs part of Hispanic Heritage Month\, this performance is more than entertainment\, it’s a celebration of identity\, tradition\, and the lasting contributions of the Hispanic community. \n📍 City Center Green\, 1 Ives St\, Danbury\, CT 06810\n🕕 6:00 PM – 8:00 PM\n🎟️ Free & open to all \n✨ Sponsored by City Center Danbury and the Office of Diversity\, Equity\, and Inclusion at Western Connecticut State University (WCSU). \nCome together to celebrate\, honor\, and enjoy the vibrant rhythms of Hispanic heritage with Rick Reyes! 🌎🎶 \n 
URL:https://citycenterdanbury.com/event/hispanic-heritage-month/
LOCATION:CT
ATTACH;FMTTYPE=image/jpeg:https://citycenterdanbury.com/wp-content/uploads/2025/09/Rick-Reyes-Save-the-Date-10.3.25-sm.jpg
END:VEVENT
END:VCALENDAR