BEGIN:VCALENDAR
VERSION:2.0
PRODID:-//CityCenter Danbury - ECPv6.15.19//NONSGML v1.0//EN
CALSCALE:GREGORIAN
METHOD:PUBLISH
X-ORIGINAL-URL:https://citycenterdanbury.com
X-WR-CALDESC:Events for CityCenter Danbury
REFRESH-INTERVAL;VALUE=DURATION:PT1H
X-Robots-Tag:noindex
X-PUBLISHED-TTL:PT1H
BEGIN:VTIMEZONE
TZID:America/New_York
BEGIN:DAYLIGHT
TZOFFSETFROM:-0500
TZOFFSETTO:-0400
TZNAME:EDT
DTSTART:20240310T070000
END:DAYLIGHT
BEGIN:STANDARD
TZOFFSETFROM:-0400
TZOFFSETTO:-0500
TZNAME:EST
DTSTART:20241103T060000
END:STANDARD
BEGIN:DAYLIGHT
TZOFFSETFROM:-0500
TZOFFSETTO:-0400
TZNAME:EDT
DTSTART:20250309T070000
END:DAYLIGHT
BEGIN:STANDARD
TZOFFSETFROM:-0400
TZOFFSETTO:-0500
TZNAME:EST
DTSTART:20251102T060000
END:STANDARD
BEGIN:DAYLIGHT
TZOFFSETFROM:-0500
TZOFFSETTO:-0400
TZNAME:EDT
DTSTART:20260308T070000
END:DAYLIGHT
BEGIN:STANDARD
TZOFFSETFROM:-0400
TZOFFSETTO:-0500
TZNAME:EST
DTSTART:20261101T060000
END:STANDARD
END:VTIMEZONE
BEGIN:VEVENT
DTSTART;TZID=America/New_York:20251101T000000
DTEND;TZID=America/New_York:20251130T235900
DTSTAMP:20260421T195452
CREATED:20241104T144031Z
LAST-MODIFIED:20251028T154200Z
UID:10000297-1761955200-1764547140@citycenterdanbury.com
SUMMARY:Tastes of Danbury - November 2025
DESCRIPTION:🍽️ CityCenter Danbury Presents Encore of “Tastes of Danbury” Through November🍽️ \nIndulge your palate at Danbury\, CT’s most delectable restaurants with Tastes of Danbury! \nCityCenter Danbury is excited to announce an encore of Tastes of Danbury for the fall season\, running now through November 30\, 2025.  \nFor just $30\, indulge in a special dish at each of our monthly highlighted eateries throughout November. That’s four incredible meals\, redeemable at your convenience\, totaling less than $8 per meal\, talk about incredible savings! \nFeatured restaurants in November: \n Empire of the Incas\nLos Rivera Cafe\nMother Ship Bakery & Cafe\nMuncheez \nTickets are valid only for November and do not roll over to the following months\, so be sure to visit all these fantastic establishments by November 30th! \nWe extend our sincere gratitude to our proud sponsor\, OMAHA BEEF\, for supporting this tasteful event. For high-quality grade meats\, look no further\, OMAHA BEEF is the way to go! \nTo purchase tickets and for further details\, please click on the link below: \nPurchase Tickets Here
URL:https://citycenterdanbury.com/event/tastes-of-danbury-november-2025/
LOCATION:Downtown Danbury\, CT\, 250 Main St.\, Danbury\, CT\, 06810
CATEGORIES:Food
ATTACH;FMTTYPE=image/jpeg:https://citycenterdanbury.com/wp-content/uploads/2024/11/TOD-2025-Instagram-scaled.jpg
END:VEVENT
END:VCALENDAR