BEGIN:VCALENDAR
VERSION:2.0
PRODID:-//CityCenter Danbury - ECPv6.15.19//NONSGML v1.0//EN
CALSCALE:GREGORIAN
METHOD:PUBLISH
X-WR-CALNAME:CityCenter Danbury
X-ORIGINAL-URL:https://citycenterdanbury.com
X-WR-CALDESC:Events for CityCenter Danbury
REFRESH-INTERVAL;VALUE=DURATION:PT1H
X-Robots-Tag:noindex
X-PUBLISHED-TTL:PT1H
BEGIN:VTIMEZONE
TZID:America/New_York
BEGIN:DAYLIGHT
TZOFFSETFROM:-0500
TZOFFSETTO:-0400
TZNAME:EDT
DTSTART:20250309T070000
END:DAYLIGHT
BEGIN:STANDARD
TZOFFSETFROM:-0400
TZOFFSETTO:-0500
TZNAME:EST
DTSTART:20251102T060000
END:STANDARD
BEGIN:DAYLIGHT
TZOFFSETFROM:-0500
TZOFFSETTO:-0400
TZNAME:EDT
DTSTART:20260308T070000
END:DAYLIGHT
BEGIN:STANDARD
TZOFFSETFROM:-0400
TZOFFSETTO:-0500
TZNAME:EST
DTSTART:20261101T060000
END:STANDARD
BEGIN:DAYLIGHT
TZOFFSETFROM:-0500
TZOFFSETTO:-0400
TZNAME:EDT
DTSTART:20270314T070000
END:DAYLIGHT
BEGIN:STANDARD
TZOFFSETFROM:-0400
TZOFFSETTO:-0500
TZNAME:EST
DTSTART:20271107T060000
END:STANDARD
END:VTIMEZONE
BEGIN:VEVENT
DTSTART;TZID=America/New_York:20260605T190000
DTEND;TZID=America/New_York:20260724T210000
DTSTAMP:20260422T123327
CREATED:20240524T201223Z
LAST-MODIFIED:20260219T200309Z
UID:10000214-1780686000-1784926800@citycenterdanbury.com
SUMMARY:Summer Concert Series 2026
DESCRIPTION:Kick-off your summer with our exciting lineup of local musicians. Come on down to our CityCenter Green to enjoy music from all genere like rock\, soul\, country\, latin\, and more! \nThere is music for everyone to enjoy\, so don’t miss out on our exciting concerts with family and friends. \nWe can’t wait to see you there!
URL:https://citycenterdanbury.com/event/4820/
LOCATION:Danbury CityCenter Green\, 1 Ives Street\, Danbury\, CT\, 06810
ATTACH;FMTTYPE=image/png:https://citycenterdanbury.com/wp-content/uploads/2024/05/06-05-Concert-scaled.png
END:VEVENT
BEGIN:VEVENT
DTSTART;TZID=America/New_York:20260725T130000
DTEND;TZID=America/New_York:20260725T190000
DTSTAMP:20260422T123327
CREATED:20230630T173030Z
LAST-MODIFIED:20260303T172142Z
UID:10000190-1784984400-1785006000@citycenterdanbury.com
SUMMARY:Danbury International Festival 2026
DESCRIPTION:🌎✨ Experience the World Right Here in Downtown Danbury! ✨🌎\nGet ready as Downtown Danbury transforms into a vibrant global celebration\, a multi-cultural FEISTA that shines a spotlight on the incredible diversity that already makes our city so special! We all know that Danbury is a hidden gem of cultures\, traditions\, and people from around the world and now’s your chance to truly experience it in full color!!! \nJoin us on Saturday\, July 25th for the 4th Annual Danbury International Festival\, where we reimagine our beloved CityCenter Green as “United Danbury” a dazzling\, joyful nod to the spirit of the United Nations. \n Immerse yourself in: \n\n\n🌍Live music from across the globe \n\n\n💃 Traditional dances that tell timeless stories \n\n\n🎨 Art displays and cultural workshops \n\n\n🍛 Delicious international cuisines that will tantalize your taste buds \n\n\n🎭 Interactive experiences\, family fun\, and so much more! \n\n\nThis is more than a festival\, it’s a celebration of unity\, pride\, culture\, and community!  \n🅿️ Parking is easy and accessible across from the Green at the Patriot Garage (21 Delay Street). \nWant to be a vendor? Don’t miss the opportunity to showcase your culture or craft—click below to register:👉 Danbury International Festival – Registration \n  \nSpecial thanks to our proud sponsor\, Ventura Law\, whose generous support helps bring this celebration of culture and community to life!
URL:https://citycenterdanbury.com/event/danbury-international-festival/
LOCATION:Danbury CityCenter Green\, 1 Ives Street\, Danbury\, CT\, 06810
CATEGORIES:Festivals
ATTACH;FMTTYPE=image/png:https://citycenterdanbury.com/wp-content/uploads/2023/06/07-26-Danbury-International-Fest-scaled.png
END:VEVENT
END:VCALENDAR