BEGIN:VCALENDAR
VERSION:2.0
PRODID:-//CityCenter Danbury - ECPv6.15.19//NONSGML v1.0//EN
CALSCALE:GREGORIAN
METHOD:PUBLISH
X-WR-CALNAME:CityCenter Danbury
X-ORIGINAL-URL:https://citycenterdanbury.com
X-WR-CALDESC:Events for CityCenter Danbury
REFRESH-INTERVAL;VALUE=DURATION:PT1H
X-Robots-Tag:noindex
X-PUBLISHED-TTL:PT1H
BEGIN:VTIMEZONE
TZID:America/New_York
BEGIN:DAYLIGHT
TZOFFSETFROM:-0500
TZOFFSETTO:-0400
TZNAME:EDT
DTSTART:20250309T070000
END:DAYLIGHT
BEGIN:STANDARD
TZOFFSETFROM:-0400
TZOFFSETTO:-0500
TZNAME:EST
DTSTART:20251102T060000
END:STANDARD
BEGIN:DAYLIGHT
TZOFFSETFROM:-0500
TZOFFSETTO:-0400
TZNAME:EDT
DTSTART:20260308T070000
END:DAYLIGHT
BEGIN:STANDARD
TZOFFSETFROM:-0400
TZOFFSETTO:-0500
TZNAME:EST
DTSTART:20261101T060000
END:STANDARD
BEGIN:DAYLIGHT
TZOFFSETFROM:-0500
TZOFFSETTO:-0400
TZNAME:EDT
DTSTART:20270314T070000
END:DAYLIGHT
BEGIN:STANDARD
TZOFFSETFROM:-0400
TZOFFSETTO:-0500
TZNAME:EST
DTSTART:20271107T060000
END:STANDARD
END:VTIMEZONE
BEGIN:VEVENT
DTSTART;TZID=America/New_York:20261024T130000
DTEND;TZID=America/New_York:20261024T160000
DTSTAMP:20260420T033133
CREATED:20230915T120741Z
LAST-MODIFIED:20260219T201213Z
UID:10000204-1792846800-1792857600@citycenterdanbury.com
SUMMARY:Halloween on the Green
DESCRIPTION:CityCenter Danbury\, in partnership with Kiwanis Club of Greater Danbury announces the 34th Annual Halloween on the Green on Saturday\, October 24th from 1pm-4pm. Children and their families are invited to the CityCenter Green (1 Ives Street) for this spirited event featuring a children’s costume parade\, goodie bags\, local vendors\, music\, photo booth\, and kid-friendly activities.  Prizes will be awarded for Most Original\, Scariest\, and Cutest costumes.  Goodie bags\, provided by AFC Urgent Care\, will be given to the first 800 costumed children.  Even if it rains\, please note the Halloween on the Green will take place inside of the Patriot Garage\, Parking Level 4.   \nContact the CityCenter Danbury office at (203) 792-1711 with any questions or email: assistant@citycenterdanbury.com \n  \nIf you are interested in becoming a sponsor or would like to be vendor at this event\, please click on the link below \nwww.citycenterdanbury.com/halloween-vendor-sponsorship-form \n  \n 
URL:https://citycenterdanbury.com/event/halloween-on-the-green-2/
LOCATION:Danbury CityCenter Green\, 1 Ives Street\, Danbury\, CT\, 06810
ATTACH;FMTTYPE=image/png:https://citycenterdanbury.com/wp-content/uploads/2023/09/10-24-Halloween-on-the-Green-B-scaled.png
END:VEVENT
END:VCALENDAR