BEGIN:VCALENDAR
VERSION:2.0
PRODID:-//CityCenter Danbury - ECPv6.15.19//NONSGML v1.0//EN
CALSCALE:GREGORIAN
METHOD:PUBLISH
X-WR-CALNAME:CityCenter Danbury
X-ORIGINAL-URL:https://citycenterdanbury.com
X-WR-CALDESC:Events for CityCenter Danbury
REFRESH-INTERVAL;VALUE=DURATION:PT1H
X-Robots-Tag:noindex
X-PUBLISHED-TTL:PT1H
BEGIN:VTIMEZONE
TZID:America/New_York
BEGIN:DAYLIGHT
TZOFFSETFROM:-0500
TZOFFSETTO:-0400
TZNAME:EDT
DTSTART:20200308T070000
END:DAYLIGHT
BEGIN:STANDARD
TZOFFSETFROM:-0400
TZOFFSETTO:-0500
TZNAME:EST
DTSTART:20201101T060000
END:STANDARD
BEGIN:DAYLIGHT
TZOFFSETFROM:-0500
TZOFFSETTO:-0400
TZNAME:EDT
DTSTART:20210314T070000
END:DAYLIGHT
BEGIN:STANDARD
TZOFFSETFROM:-0400
TZOFFSETTO:-0500
TZNAME:EST
DTSTART:20211107T060000
END:STANDARD
BEGIN:DAYLIGHT
TZOFFSETFROM:-0500
TZOFFSETTO:-0400
TZNAME:EDT
DTSTART:20220313T070000
END:DAYLIGHT
BEGIN:STANDARD
TZOFFSETFROM:-0400
TZOFFSETTO:-0500
TZNAME:EST
DTSTART:20221106T060000
END:STANDARD
END:VTIMEZONE
BEGIN:VEVENT
DTSTART;TZID=America/New_York:20210212T180000
DTEND;TZID=America/New_York:20210212T210000
DTSTAMP:20260422T062830
CREATED:20210119T163900Z
LAST-MODIFIED:20210119T164122Z
UID:10000105-1613152800-1613163600@citycenterdanbury.com
SUMMARY:2021 HAT CITY BALL & SILENT AUCTION
DESCRIPTION:Danbury Museum will host their annual Hat City Ball fundraiser/silent auction virtually on Friday\, February 12th.\nA special to-go dinner is included. And\, for every ticket purchased\, a meal will be delivered to a Danbury senior.2021 Honorees: The New American Dream Foundation and Amber Room Colonnade. Ticket Info
URL:https://citycenterdanbury.com/event/2021-hat-city-ball-silent-auction/
ATTACH;FMTTYPE=image/png:https://citycenterdanbury.com/wp-content/uploads/2021/01/Website-Event.png
END:VEVENT
END:VCALENDAR