BEGIN:VCALENDAR
VERSION:2.0
PRODID:-//CityCenter Danbury - ECPv6.15.19//NONSGML v1.0//EN
CALSCALE:GREGORIAN
METHOD:PUBLISH
X-WR-CALNAME:CityCenter Danbury
X-ORIGINAL-URL:https://citycenterdanbury.com
X-WR-CALDESC:Events for CityCenter Danbury
REFRESH-INTERVAL;VALUE=DURATION:PT1H
X-Robots-Tag:noindex
X-PUBLISHED-TTL:PT1H
BEGIN:VTIMEZONE
TZID:America/New_York
BEGIN:DAYLIGHT
TZOFFSETFROM:-0500
TZOFFSETTO:-0400
TZNAME:EDT
DTSTART:20200308T070000
END:DAYLIGHT
BEGIN:STANDARD
TZOFFSETFROM:-0400
TZOFFSETTO:-0500
TZNAME:EST
DTSTART:20201101T060000
END:STANDARD
BEGIN:DAYLIGHT
TZOFFSETFROM:-0500
TZOFFSETTO:-0400
TZNAME:EDT
DTSTART:20210314T070000
END:DAYLIGHT
BEGIN:STANDARD
TZOFFSETFROM:-0400
TZOFFSETTO:-0500
TZNAME:EST
DTSTART:20211107T060000
END:STANDARD
BEGIN:DAYLIGHT
TZOFFSETFROM:-0500
TZOFFSETTO:-0400
TZNAME:EDT
DTSTART:20220313T070000
END:DAYLIGHT
BEGIN:STANDARD
TZOFFSETFROM:-0400
TZOFFSETTO:-0500
TZNAME:EST
DTSTART:20221106T060000
END:STANDARD
END:VTIMEZONE
BEGIN:VEVENT
DTSTART;TZID=America/New_York:20210917T100000
DTEND;TZID=America/New_York:20210917T140000
DTSTAMP:20260421T060554
CREATED:20210610T164348Z
LAST-MODIFIED:20210628T151422Z
UID:10000076-1631872800-1631887200@citycenterdanbury.com
SUMMARY:CityCenter Danbury Farmers' Market
DESCRIPTION:Every Friday\, from June 25th through October 29th\, you can find the CityCenter Danbury Farmers’ Market at the Danbury Railway Museum (120 White Street). The Danbury Farmers’ Market community is thrilled for everyone to share in the excitement and benefits of fresh local fruits\, vegetables\, specialty food items\, and more! Come support our local farmers & small businesses by purchasing their fresh produce and home-made crafts. Parking is available at the Danbury Metro-North Railroad Station & at Patriot Parking Garage. Limited handicap parking can be found at the Danbury Railway Museum on a first come\, first served basis. \nClick on the link below for more details: \nhttp://www.danburyfarmersmarket.org \n 
URL:https://citycenterdanbury.com/event/2021-danbury-farmers-market/2021-09-17/
LOCATION:Danbury Railway Museum\, 121 White Street\, Danbury\, Connecticut\, 06810
ATTACH;FMTTYPE=image/png:https://citycenterdanbury.com/wp-content/uploads/2021/06/Farmers-Image.png
END:VEVENT
BEGIN:VEVENT
DTSTART;TZID=America/New_York:20210910T100000
DTEND;TZID=America/New_York:20210910T140000
DTSTAMP:20260421T060554
CREATED:20210610T164348Z
LAST-MODIFIED:20210628T151422Z
UID:10000075-1631268000-1631282400@citycenterdanbury.com
SUMMARY:CityCenter Danbury Farmers' Market
DESCRIPTION:Every Friday\, from June 25th through October 29th\, you can find the CityCenter Danbury Farmers’ Market at the Danbury Railway Museum (120 White Street). The Danbury Farmers’ Market community is thrilled for everyone to share in the excitement and benefits of fresh local fruits\, vegetables\, specialty food items\, and more! Come support our local farmers & small businesses by purchasing their fresh produce and home-made crafts. Parking is available at the Danbury Metro-North Railroad Station & at Patriot Parking Garage. Limited handicap parking can be found at the Danbury Railway Museum on a first come\, first served basis. \nClick on the link below for more details: \nhttp://www.danburyfarmersmarket.org \n 
URL:https://citycenterdanbury.com/event/2021-danbury-farmers-market/2021-09-10/
LOCATION:Danbury Railway Museum\, 121 White Street\, Danbury\, Connecticut\, 06810
ATTACH;FMTTYPE=image/png:https://citycenterdanbury.com/wp-content/uploads/2021/06/Farmers-Image.png
END:VEVENT
BEGIN:VEVENT
DTSTART;TZID=America/New_York:20210903T100000
DTEND;TZID=America/New_York:20210903T140000
DTSTAMP:20260421T060554
CREATED:20210610T164348Z
LAST-MODIFIED:20210628T151422Z
UID:10000074-1630663200-1630677600@citycenterdanbury.com
SUMMARY:CityCenter Danbury Farmers' Market
DESCRIPTION:Every Friday\, from June 25th through October 29th\, you can find the CityCenter Danbury Farmers’ Market at the Danbury Railway Museum (120 White Street). The Danbury Farmers’ Market community is thrilled for everyone to share in the excitement and benefits of fresh local fruits\, vegetables\, specialty food items\, and more! Come support our local farmers & small businesses by purchasing their fresh produce and home-made crafts. Parking is available at the Danbury Metro-North Railroad Station & at Patriot Parking Garage. Limited handicap parking can be found at the Danbury Railway Museum on a first come\, first served basis. \nClick on the link below for more details: \nhttp://www.danburyfarmersmarket.org \n 
URL:https://citycenterdanbury.com/event/2021-danbury-farmers-market/2021-09-03/
LOCATION:Danbury Railway Museum\, 121 White Street\, Danbury\, Connecticut\, 06810
ATTACH;FMTTYPE=image/png:https://citycenterdanbury.com/wp-content/uploads/2021/06/Farmers-Image.png
END:VEVENT
BEGIN:VEVENT
DTSTART;TZID=America/New_York:20210827T100000
DTEND;TZID=America/New_York:20210827T140000
DTSTAMP:20260421T060554
CREATED:20210610T164348Z
LAST-MODIFIED:20210628T151422Z
UID:10000073-1630058400-1630072800@citycenterdanbury.com
SUMMARY:CityCenter Danbury Farmers' Market
DESCRIPTION:Every Friday\, from June 25th through October 29th\, you can find the CityCenter Danbury Farmers’ Market at the Danbury Railway Museum (120 White Street). The Danbury Farmers’ Market community is thrilled for everyone to share in the excitement and benefits of fresh local fruits\, vegetables\, specialty food items\, and more! Come support our local farmers & small businesses by purchasing their fresh produce and home-made crafts. Parking is available at the Danbury Metro-North Railroad Station & at Patriot Parking Garage. Limited handicap parking can be found at the Danbury Railway Museum on a first come\, first served basis. \nClick on the link below for more details: \nhttp://www.danburyfarmersmarket.org \n 
URL:https://citycenterdanbury.com/event/2021-danbury-farmers-market/2021-08-27/
LOCATION:Danbury Railway Museum\, 121 White Street\, Danbury\, Connecticut\, 06810
ATTACH;FMTTYPE=image/png:https://citycenterdanbury.com/wp-content/uploads/2021/06/Farmers-Image.png
END:VEVENT
BEGIN:VEVENT
DTSTART;TZID=America/New_York:20210820T100000
DTEND;TZID=America/New_York:20210820T140000
DTSTAMP:20260421T060554
CREATED:20210610T164348Z
LAST-MODIFIED:20210628T151422Z
UID:10000072-1629453600-1629468000@citycenterdanbury.com
SUMMARY:CityCenter Danbury Farmers' Market
DESCRIPTION:Every Friday\, from June 25th through October 29th\, you can find the CityCenter Danbury Farmers’ Market at the Danbury Railway Museum (120 White Street). The Danbury Farmers’ Market community is thrilled for everyone to share in the excitement and benefits of fresh local fruits\, vegetables\, specialty food items\, and more! Come support our local farmers & small businesses by purchasing their fresh produce and home-made crafts. Parking is available at the Danbury Metro-North Railroad Station & at Patriot Parking Garage. Limited handicap parking can be found at the Danbury Railway Museum on a first come\, first served basis. \nClick on the link below for more details: \nhttp://www.danburyfarmersmarket.org \n 
URL:https://citycenterdanbury.com/event/2021-danbury-farmers-market/2021-08-20/
LOCATION:Danbury Railway Museum\, 121 White Street\, Danbury\, Connecticut\, 06810
ATTACH;FMTTYPE=image/png:https://citycenterdanbury.com/wp-content/uploads/2021/06/Farmers-Image.png
END:VEVENT
BEGIN:VEVENT
DTSTART;TZID=America/New_York:20210813T100000
DTEND;TZID=America/New_York:20210813T140000
DTSTAMP:20260421T060554
CREATED:20210610T164348Z
LAST-MODIFIED:20210628T151422Z
UID:10000071-1628848800-1628863200@citycenterdanbury.com
SUMMARY:CityCenter Danbury Farmers' Market
DESCRIPTION:Every Friday\, from June 25th through October 29th\, you can find the CityCenter Danbury Farmers’ Market at the Danbury Railway Museum (120 White Street). The Danbury Farmers’ Market community is thrilled for everyone to share in the excitement and benefits of fresh local fruits\, vegetables\, specialty food items\, and more! Come support our local farmers & small businesses by purchasing their fresh produce and home-made crafts. Parking is available at the Danbury Metro-North Railroad Station & at Patriot Parking Garage. Limited handicap parking can be found at the Danbury Railway Museum on a first come\, first served basis. \nClick on the link below for more details: \nhttp://www.danburyfarmersmarket.org \n 
URL:https://citycenterdanbury.com/event/2021-danbury-farmers-market/2021-08-13/
LOCATION:Danbury Railway Museum\, 121 White Street\, Danbury\, Connecticut\, 06810
ATTACH;FMTTYPE=image/png:https://citycenterdanbury.com/wp-content/uploads/2021/06/Farmers-Image.png
END:VEVENT
BEGIN:VEVENT
DTSTART;TZID=America/New_York:20210806T100000
DTEND;TZID=America/New_York:20210806T140000
DTSTAMP:20260421T060554
CREATED:20210610T164348Z
LAST-MODIFIED:20210628T151422Z
UID:10000070-1628244000-1628258400@citycenterdanbury.com
SUMMARY:CityCenter Danbury Farmers' Market
DESCRIPTION:Every Friday\, from June 25th through October 29th\, you can find the CityCenter Danbury Farmers’ Market at the Danbury Railway Museum (120 White Street). The Danbury Farmers’ Market community is thrilled for everyone to share in the excitement and benefits of fresh local fruits\, vegetables\, specialty food items\, and more! Come support our local farmers & small businesses by purchasing their fresh produce and home-made crafts. Parking is available at the Danbury Metro-North Railroad Station & at Patriot Parking Garage. Limited handicap parking can be found at the Danbury Railway Museum on a first come\, first served basis. \nClick on the link below for more details: \nhttp://www.danburyfarmersmarket.org \n 
URL:https://citycenterdanbury.com/event/2021-danbury-farmers-market/2021-08-06/
LOCATION:Danbury Railway Museum\, 121 White Street\, Danbury\, Connecticut\, 06810
ATTACH;FMTTYPE=image/png:https://citycenterdanbury.com/wp-content/uploads/2021/06/Farmers-Image.png
END:VEVENT
BEGIN:VEVENT
DTSTART;TZID=America/New_York:20210730T100000
DTEND;TZID=America/New_York:20210730T140000
DTSTAMP:20260421T060554
CREATED:20210610T164348Z
LAST-MODIFIED:20210628T151422Z
UID:10000069-1627639200-1627653600@citycenterdanbury.com
SUMMARY:CityCenter Danbury Farmers' Market
DESCRIPTION:Every Friday\, from June 25th through October 29th\, you can find the CityCenter Danbury Farmers’ Market at the Danbury Railway Museum (120 White Street). The Danbury Farmers’ Market community is thrilled for everyone to share in the excitement and benefits of fresh local fruits\, vegetables\, specialty food items\, and more! Come support our local farmers & small businesses by purchasing their fresh produce and home-made crafts. Parking is available at the Danbury Metro-North Railroad Station & at Patriot Parking Garage. Limited handicap parking can be found at the Danbury Railway Museum on a first come\, first served basis. \nClick on the link below for more details: \nhttp://www.danburyfarmersmarket.org \n 
URL:https://citycenterdanbury.com/event/2021-danbury-farmers-market/2021-07-30/
LOCATION:Danbury Railway Museum\, 121 White Street\, Danbury\, Connecticut\, 06810
ATTACH;FMTTYPE=image/png:https://citycenterdanbury.com/wp-content/uploads/2021/06/Farmers-Image.png
END:VEVENT
BEGIN:VEVENT
DTSTART;TZID=America/New_York:20210723T100000
DTEND;TZID=America/New_York:20210723T140000
DTSTAMP:20260421T060554
CREATED:20210610T164348Z
LAST-MODIFIED:20210628T151422Z
UID:10000068-1627034400-1627048800@citycenterdanbury.com
SUMMARY:CityCenter Danbury Farmers' Market
DESCRIPTION:Every Friday\, from June 25th through October 29th\, you can find the CityCenter Danbury Farmers’ Market at the Danbury Railway Museum (120 White Street). The Danbury Farmers’ Market community is thrilled for everyone to share in the excitement and benefits of fresh local fruits\, vegetables\, specialty food items\, and more! Come support our local farmers & small businesses by purchasing their fresh produce and home-made crafts. Parking is available at the Danbury Metro-North Railroad Station & at Patriot Parking Garage. Limited handicap parking can be found at the Danbury Railway Museum on a first come\, first served basis. \nClick on the link below for more details: \nhttp://www.danburyfarmersmarket.org \n 
URL:https://citycenterdanbury.com/event/2021-danbury-farmers-market/2021-07-23/
LOCATION:Danbury Railway Museum\, 121 White Street\, Danbury\, Connecticut\, 06810
ATTACH;FMTTYPE=image/png:https://citycenterdanbury.com/wp-content/uploads/2021/06/Farmers-Image.png
END:VEVENT
BEGIN:VEVENT
DTSTART;TZID=America/New_York:20210716T100000
DTEND;TZID=America/New_York:20210716T140000
DTSTAMP:20260421T060554
CREATED:20210610T164348Z
LAST-MODIFIED:20210628T151422Z
UID:10000067-1626429600-1626444000@citycenterdanbury.com
SUMMARY:CityCenter Danbury Farmers' Market
DESCRIPTION:Every Friday\, from June 25th through October 29th\, you can find the CityCenter Danbury Farmers’ Market at the Danbury Railway Museum (120 White Street). The Danbury Farmers’ Market community is thrilled for everyone to share in the excitement and benefits of fresh local fruits\, vegetables\, specialty food items\, and more! Come support our local farmers & small businesses by purchasing their fresh produce and home-made crafts. Parking is available at the Danbury Metro-North Railroad Station & at Patriot Parking Garage. Limited handicap parking can be found at the Danbury Railway Museum on a first come\, first served basis. \nClick on the link below for more details: \nhttp://www.danburyfarmersmarket.org \n 
URL:https://citycenterdanbury.com/event/2021-danbury-farmers-market/2021-07-16/
LOCATION:Danbury Railway Museum\, 121 White Street\, Danbury\, Connecticut\, 06810
ATTACH;FMTTYPE=image/png:https://citycenterdanbury.com/wp-content/uploads/2021/06/Farmers-Image.png
END:VEVENT
BEGIN:VEVENT
DTSTART;TZID=America/New_York:20210709T100000
DTEND;TZID=America/New_York:20210709T140000
DTSTAMP:20260421T060554
CREATED:20210610T164348Z
LAST-MODIFIED:20210628T151422Z
UID:10000066-1625824800-1625839200@citycenterdanbury.com
SUMMARY:CityCenter Danbury Farmers' Market
DESCRIPTION:Every Friday\, from June 25th through October 29th\, you can find the CityCenter Danbury Farmers’ Market at the Danbury Railway Museum (120 White Street). The Danbury Farmers’ Market community is thrilled for everyone to share in the excitement and benefits of fresh local fruits\, vegetables\, specialty food items\, and more! Come support our local farmers & small businesses by purchasing their fresh produce and home-made crafts. Parking is available at the Danbury Metro-North Railroad Station & at Patriot Parking Garage. Limited handicap parking can be found at the Danbury Railway Museum on a first come\, first served basis. \nClick on the link below for more details: \nhttp://www.danburyfarmersmarket.org \n 
URL:https://citycenterdanbury.com/event/2021-danbury-farmers-market/2021-07-09/
LOCATION:Danbury Railway Museum\, 121 White Street\, Danbury\, Connecticut\, 06810
ATTACH;FMTTYPE=image/png:https://citycenterdanbury.com/wp-content/uploads/2021/06/Farmers-Image.png
END:VEVENT
BEGIN:VEVENT
DTSTART;TZID=America/New_York:20210702T100000
DTEND;TZID=America/New_York:20210702T140000
DTSTAMP:20260421T060554
CREATED:20210610T164348Z
LAST-MODIFIED:20210628T151422Z
UID:10000065-1625220000-1625234400@citycenterdanbury.com
SUMMARY:CityCenter Danbury Farmers' Market
DESCRIPTION:Every Friday\, from June 25th through October 29th\, you can find the CityCenter Danbury Farmers’ Market at the Danbury Railway Museum (120 White Street). The Danbury Farmers’ Market community is thrilled for everyone to share in the excitement and benefits of fresh local fruits\, vegetables\, specialty food items\, and more! Come support our local farmers & small businesses by purchasing their fresh produce and home-made crafts. Parking is available at the Danbury Metro-North Railroad Station & at Patriot Parking Garage. Limited handicap parking can be found at the Danbury Railway Museum on a first come\, first served basis. \nClick on the link below for more details: \nhttp://www.danburyfarmersmarket.org \n 
URL:https://citycenterdanbury.com/event/2021-danbury-farmers-market/2021-07-02/
LOCATION:Danbury Railway Museum\, 121 White Street\, Danbury\, Connecticut\, 06810
ATTACH;FMTTYPE=image/png:https://citycenterdanbury.com/wp-content/uploads/2021/06/Farmers-Image.png
END:VEVENT
BEGIN:VEVENT
DTSTART;TZID=America/New_York:20210625T100000
DTEND;TZID=America/New_York:20210625T140000
DTSTAMP:20260421T060554
CREATED:20210610T164348Z
LAST-MODIFIED:20210628T151422Z
UID:10000064-1624615200-1624629600@citycenterdanbury.com
SUMMARY:CityCenter Danbury Farmers' Market
DESCRIPTION:Every Friday\, from June 25th through October 29th\, you can find the CityCenter Danbury Farmers’ Market at the Danbury Railway Museum (120 White Street). The Danbury Farmers’ Market community is thrilled for everyone to share in the excitement and benefits of fresh local fruits\, vegetables\, specialty food items\, and more! Come support our local farmers & small businesses by purchasing their fresh produce and home-made crafts. Parking is available at the Danbury Metro-North Railroad Station & at Patriot Parking Garage. Limited handicap parking can be found at the Danbury Railway Museum on a first come\, first served basis. \nClick on the link below for more details: \nhttp://www.danburyfarmersmarket.org \n 
URL:https://citycenterdanbury.com/event/2021-danbury-farmers-market/2021-06-25/
LOCATION:Danbury Railway Museum\, 121 White Street\, Danbury\, Connecticut\, 06810
ATTACH;FMTTYPE=image/png:https://citycenterdanbury.com/wp-content/uploads/2021/06/Farmers-Image.png
END:VEVENT
END:VCALENDAR